BEGIN:VCALENDAR
VERSION:2.0
PRODID:-//SKDV - schweizer service verband - ECPv6.15.18//NONSGML v1.0//EN
CALSCALE:GREGORIAN
METHOD:PUBLISH
X-ORIGINAL-URL:https://tescht2.skdv.ch
X-WR-CALDESC:Veranstaltungen für SKDV - schweizer service verband
REFRESH-INTERVAL;VALUE=DURATION:PT1H
X-Robots-Tag:noindex
X-PUBLISHED-TTL:PT1H
BEGIN:VTIMEZONE
TZID:Europe/Zurich
BEGIN:DAYLIGHT
TZOFFSETFROM:+0100
TZOFFSETTO:+0200
TZNAME:CEST
DTSTART:20230326T010000
END:DAYLIGHT
BEGIN:STANDARD
TZOFFSETFROM:+0200
TZOFFSETTO:+0100
TZNAME:CET
DTSTART:20231029T010000
END:STANDARD
BEGIN:DAYLIGHT
TZOFFSETFROM:+0100
TZOFFSETTO:+0200
TZNAME:CEST
DTSTART:20240331T010000
END:DAYLIGHT
BEGIN:STANDARD
TZOFFSETFROM:+0200
TZOFFSETTO:+0100
TZNAME:CET
DTSTART:20241027T010000
END:STANDARD
BEGIN:DAYLIGHT
TZOFFSETFROM:+0100
TZOFFSETTO:+0200
TZNAME:CEST
DTSTART:20250330T010000
END:DAYLIGHT
BEGIN:STANDARD
TZOFFSETFROM:+0200
TZOFFSETTO:+0100
TZNAME:CET
DTSTART:20251026T010000
END:STANDARD
END:VTIMEZONE
BEGIN:VEVENT
DTSTART;VALUE=DATE:20240313
DTEND;VALUE=DATE:20240314
DTSTAMP:20260421T221752
CREATED:20240205T130419Z
LAST-MODIFIED:20240205T133301Z
UID:6427-1710288000-1710374399@tescht2.skdv.ch
SUMMARY:27. Aachener Dienstleistungsforum
DESCRIPTION:Die "Subcription-Journey – Erfolgreich vom Produkt zum Lösungsanbieter“ geht weiter.				\n				\n				\n				\n									Das FIR an der RWTH Aachen und das Service Performance Center laden ein zum Aachener Dienstleistungsforum am 13. März 2024.  Die ganztägige Veranstaltung ist digital und kostenfrei. Unter dem Motto „Subscription Journey – Erfolgreich vom Produkt- zum digitalen Lösungsanbieter“ entdecken Sie die zentralen Entwicklungsstufen Service-Excellence\, digitale Produkte und Subscription. Freuen Sie sich auf Informationen zu neuesten Entwicklungen sowie inspirierende Erfolgsgeschichten und Best Practices aus erster Hand\, präsentiert von Vertreter:innen renommierter Unternehmen. Nutzen Sie die Gelegenheit zum Austausch und werden Sie Teil von Deutschlands führender Innovationsveranstaltung im industriellen Service\, die jedes Jahr rund 600 Teilnehmer:innen begeistert. 								\n				\n					\n		\n					\n		\n				\n				\n							\n			\n		\n						\n				\n				\n						\n					\n			\n						\n				\n					        \n\n            \n            	    \n                \n\n                                                                \n                    Jetzt Platz sichern\n\n                                    \n	                        \n        \n        				\n				\n				\n				\n							\n			\n		\n						\n				\n				\n				\n									\n					\n						\n						\n							\n									Event-Übersicht
URL:https://tescht2.skdv.ch/event/27-aachener-dienstleistungsforum/
LOCATION:ONLINE
CATEGORIES:Fachtagung,Online-Event
ATTACH;FMTTYPE=image/jpeg:https://tescht2.skdv.ch/wp-content/uploads/2024/02/aachener-dienstleistungsforum-2024.jpg
END:VEVENT
END:VCALENDAR