BEGIN:VCALENDAR
VERSION:2.0
PRODID:-//SKDV - schweizer service verband - ECPv6.15.18//NONSGML v1.0//EN
CALSCALE:GREGORIAN
METHOD:PUBLISH
X-WR-CALNAME:SKDV - schweizer service verband
X-ORIGINAL-URL:https://tescht2.skdv.ch
X-WR-CALDESC:Veranstaltungen für SKDV - schweizer service verband
REFRESH-INTERVAL;VALUE=DURATION:PT1H
X-Robots-Tag:noindex
X-PUBLISHED-TTL:PT1H
BEGIN:VTIMEZONE
TZID:Europe/Zurich
BEGIN:DAYLIGHT
TZOFFSETFROM:+0100
TZOFFSETTO:+0200
TZNAME:CEST
DTSTART:20240331T010000
END:DAYLIGHT
BEGIN:STANDARD
TZOFFSETFROM:+0200
TZOFFSETTO:+0100
TZNAME:CET
DTSTART:20241027T010000
END:STANDARD
BEGIN:DAYLIGHT
TZOFFSETFROM:+0100
TZOFFSETTO:+0200
TZNAME:CEST
DTSTART:20250330T010000
END:DAYLIGHT
BEGIN:STANDARD
TZOFFSETFROM:+0200
TZOFFSETTO:+0100
TZNAME:CET
DTSTART:20251026T010000
END:STANDARD
BEGIN:DAYLIGHT
TZOFFSETFROM:+0100
TZOFFSETTO:+0200
TZNAME:CEST
DTSTART:20260329T010000
END:DAYLIGHT
BEGIN:STANDARD
TZOFFSETFROM:+0200
TZOFFSETTO:+0100
TZNAME:CET
DTSTART:20261025T010000
END:STANDARD
END:VTIMEZONE
BEGIN:VEVENT
DTSTART;TZID=Europe/Zurich:20250401T180000
DTEND;TZID=Europe/Zurich:20250401T210000
DTSTAMP:20260420T123312
CREATED:20250130T220246Z
LAST-MODIFIED:20250301T121649Z
UID:7145-1743530400-1743541200@tescht2.skdv.ch
SUMMARY:TKK Workshop "Digitale Service-Geschäftsmodelle"
DESCRIPTION:Wir verdrahten den Service neu: Mensch – Maschine - Meisterleistungen				\n				\n				\n				\n									Ende August ist es bereits wieder soweit und wir freuen uns darauf\, Sie bei der Service Werkstatt 2026 Willkommen zu heissen. Mit interessanten Vorträgen und anschliessenden Workshops möchten wir sie inspirieren auch Ihre Servicewelt wo gewünscht oder notwendig neu zu Verdrahten. Für Meisterleistungen werden neben guten Ideen auch intelligente Maschinen und Menschenmit den enzsprechenden Kompetenzen benötigt\, welche die neusten Technologien bewusst einsetzen. Folgenden Themen wollen wir uns annehmen: Digitale TransformationSkill ShiftKI gestützte HilfenDiverse Sponsoren werden ihre Produkte und Dienstleistungen zu den Kernthemen präsentieren und in kurzen Elevator Pitches erklären. 								\n				\n					\n		\n					\n		\n				\n						\n					\n			\n						\n				\n					Agenda				\n				\n				\n				\n									Detailagenda folgt bald. 								\n				\n				\n				\n							\n			\n				\n			\n\n			\n								\n						\n\n				\n											\n							13:00 Uhr						\n						\n				\n\n				\n									\n					\n																									\n				\n								\n				\n													\n												\n														\n								\n									\n																					\n												13:00 Uhr											\n																				\n									Brauerei BesichtigungOptional Erhalte Einblick in die Braukunst der schlosseigenen Brauerei durch den Braumeister. 								\n							\n													\n										\n\n			\n								\n						\n\n				\n											\n							15:00 Uhr						\n						\n				\n\n				\n									\n					\n																									\n				\n								\n				\n													\n												\n														\n								\n									\n																					\n												15:00 Uhr											\n																				\n									SKDV GV 2026(SKDV Mitglieder)   Anmeldung ganz unten. 								\n							\n													\n										\n\n			\n								\n						\n\n				\n											\n							16:30 Uhr						\n						\n				\n\n				\n									\n					\n																									\n				\n								\n				\n												\n														\n								\n									\n																					\n												16:30 Uhr											\n																				\n									TKK Workshop "Digitale Kompetenzen"Digitale Schlüsselkompetenzen für den technischen Kundendienst werden mit DigComp 3.0 klar und praxisnah bestimmt. 								\n							\n							Weitere Informationen						\n										\n\n			\n								\n						\n\n				\n											\n							18:00 Uhr						\n						\n				\n\n				\n									\n					\n																									\n				\n								\n				\n													\n												\n														\n								\n									\n																					\n												18:00 Uhr											\n																				\n									Apéro RicheNetworking mit reichhaltigem Apéro in der Grüne Bar. 								\n							\n													\n										\n\n			\n						\n\n						\n				\n				\n				\n							\n			\n		\n						\n				\n					\n		\n					\n		\n				\n						\n					\n			\n						\n				\n					Anmeldung				\n				\n				\n				\n									Die Anmeldung öffnet bald.
URL:https://tescht2.skdv.ch/event/tkk-workshop-digitale-service-geschaeftsmodelle/
LOCATION:Schloss Greifensee\, Im Städtli 24\, Greifensee\, 8606
CATEGORIES:Fachtagung
ATTACH;FMTTYPE=image/jpeg:https://tescht2.skdv.ch/wp-content/uploads/2025/01/TKK_Workshop_Digitale-Service-Modelle.jpg
END:VEVENT
BEGIN:VEVENT
DTSTART;VALUE=DATE:20250425
DTEND;VALUE=DATE:20250426
DTSTAMP:20260420T123312
CREATED:20241219T231943Z
LAST-MODIFIED:20250301T121507Z
UID:7062-1745539200-1745625599@tescht2.skdv.ch
SUMMARY:Service Inside Spezial @ Weiss Technik GmbH
DESCRIPTION:Wir verdrahten den Service neu: Mensch – Maschine - Meisterleistungen				\n				\n				\n				\n									Ende August ist es bereits wieder soweit und wir freuen uns darauf\, Sie bei der Service Werkstatt 2026 Willkommen zu heissen. Mit interessanten Vorträgen und anschliessenden Workshops möchten wir sie inspirieren auch Ihre Servicewelt wo gewünscht oder notwendig neu zu Verdrahten. Für Meisterleistungen werden neben guten Ideen auch intelligente Maschinen und Menschenmit den enzsprechenden Kompetenzen benötigt\, welche die neusten Technologien bewusst einsetzen. Folgenden Themen wollen wir uns annehmen: Digitale TransformationSkill ShiftKI gestützte HilfenDiverse Sponsoren werden ihre Produkte und Dienstleistungen zu den Kernthemen präsentieren und in kurzen Elevator Pitches erklären. 								\n				\n					\n		\n					\n		\n				\n						\n					\n			\n						\n				\n					Agenda				\n				\n				\n				\n									Detailagenda folgt bald. 								\n				\n				\n				\n							\n			\n				\n			\n\n			\n								\n						\n\n				\n											\n							13:00 Uhr						\n						\n				\n\n				\n									\n					\n																									\n				\n								\n				\n													\n												\n														\n								\n									\n																					\n												13:00 Uhr											\n																				\n									Brauerei BesichtigungOptional Erhalte Einblick in die Braukunst der schlosseigenen Brauerei durch den Braumeister. 								\n							\n													\n										\n\n			\n								\n						\n\n				\n											\n							15:00 Uhr						\n						\n				\n\n				\n									\n					\n																									\n				\n								\n				\n													\n												\n														\n								\n									\n																					\n												15:00 Uhr											\n																				\n									SKDV GV 2026(SKDV Mitglieder)   Anmeldung ganz unten. 								\n							\n													\n										\n\n			\n								\n						\n\n				\n											\n							16:30 Uhr						\n						\n				\n\n				\n									\n					\n																									\n				\n								\n				\n												\n														\n								\n									\n																					\n												16:30 Uhr											\n																				\n									TKK Workshop "Digitale Kompetenzen"Digitale Schlüsselkompetenzen für den technischen Kundendienst werden mit DigComp 3.0 klar und praxisnah bestimmt. 								\n							\n							Weitere Informationen						\n										\n\n			\n								\n						\n\n				\n											\n							18:00 Uhr						\n						\n				\n\n				\n									\n					\n																									\n				\n								\n				\n													\n												\n														\n								\n									\n																					\n												18:00 Uhr											\n																				\n									Apéro RicheNetworking mit reichhaltigem Apéro in der Grüne Bar. 								\n							\n													\n										\n\n			\n						\n\n						\n				\n				\n				\n							\n			\n		\n						\n				\n					\n		\n					\n		\n				\n						\n					\n			\n						\n				\n					Anmeldung				\n				\n				\n				\n									Die Anmeldung öffnet bald.
URL:https://tescht2.skdv.ch/event/service-inside-spezial-ganztaegig/
LOCATION:Weiss Technik GmbH\, Balingen\, 72336\, Deutschland
CATEGORIES:SKDV Service Inside
ATTACH;FMTTYPE=image/png:https://tescht2.skdv.ch/wp-content/uploads/2024/12/Service-Inside_Weiss-Technik.png
ORGANIZER;CN="SKDV":MAILTO:info@skdv.ch
END:VEVENT
END:VCALENDAR