BEGIN:VCALENDAR
VERSION:2.0
PRODID:-//SKDV - schweizer service verband - ECPv6.15.18//NONSGML v1.0//EN
CALSCALE:GREGORIAN
METHOD:PUBLISH
X-WR-CALNAME:SKDV - schweizer service verband
X-ORIGINAL-URL:https://tescht2.skdv.ch
X-WR-CALDESC:Veranstaltungen für SKDV - schweizer service verband
REFRESH-INTERVAL;VALUE=DURATION:PT1H
X-Robots-Tag:noindex
X-PUBLISHED-TTL:PT1H
BEGIN:VTIMEZONE
TZID:Europe/Zurich
BEGIN:DAYLIGHT
TZOFFSETFROM:+0100
TZOFFSETTO:+0200
TZNAME:CEST
DTSTART:20230326T010000
END:DAYLIGHT
BEGIN:STANDARD
TZOFFSETFROM:+0200
TZOFFSETTO:+0100
TZNAME:CET
DTSTART:20231029T010000
END:STANDARD
BEGIN:DAYLIGHT
TZOFFSETFROM:+0100
TZOFFSETTO:+0200
TZNAME:CEST
DTSTART:20240331T010000
END:DAYLIGHT
BEGIN:STANDARD
TZOFFSETFROM:+0200
TZOFFSETTO:+0100
TZNAME:CET
DTSTART:20241027T010000
END:STANDARD
BEGIN:DAYLIGHT
TZOFFSETFROM:+0100
TZOFFSETTO:+0200
TZNAME:CEST
DTSTART:20250330T010000
END:DAYLIGHT
BEGIN:STANDARD
TZOFFSETFROM:+0200
TZOFFSETTO:+0100
TZNAME:CET
DTSTART:20251026T010000
END:STANDARD
END:VTIMEZONE
BEGIN:VEVENT
DTSTART;TZID=Europe/Zurich:20241029T180000
DTEND;TZID=Europe/Zurich:20241029T210000
DTSTAMP:20260421T045303
CREATED:20240821T231435Z
LAST-MODIFIED:20240821T231729Z
UID:6855-1730224800-1730235600@tescht2.skdv.ch
SUMMARY:TKK Kick Off "Berufsbild Servicetechniker"
DESCRIPTION:Hinweis: Im Vorfeld dieser Veranstaltung findet die SKDV Generalversammlung 2024 statt 								\n				\n				\n		\n		\n				\n				\n					TKK KICK OFF EVENT				\n				\n				\n				\n					Berufsbild Servicetechniker				\n				\n				\n				\n					Zertifizierungslehrgang ab Frühjahr 2025				\n				\n				\n		\n				\n				\n																\n															\n															\n				\n				\n				\n		\n				\n				\n									Es ist soweit – die Vorabklärungen sind beendet.Wir starten mit dem Profil des Berufsbildes „Servicetechniker“. Im Frühjahr 2025 wollen wir den ersten Zertifizierungslehrgang „Servicetechniker“ starten. Welche allgemeinen Fähigkeiten und Zertifikate benötigen die Servicetechniker im Feld draussen\, um als Firmenbotschafter auftreten zu können? Um sowohl für den Absolventen und die Arbeitgeber einen maximalen Nutzen zu erzielen\, möchten wir direkt Ihren Input in die Lehrgangsmodule einfliessen lassen. Agenda: 16:30 SKDV-GV (Nur für SKDV Mitglieder\, Eintreffen ab 16 Uhr\, Einladung erfolgt separat) 17:30 Eintreffen der Teilnehmer18:00 Begrüssung18:10 Kick-Off Präsentation18:30 Workshop (Teil1)19:00 Workshop (Teil 2)19:30 Auswertung / Resultate20:00 Apéro und Networking Wir freuen uns\, Sie am 29. Oktober 2024 im historischen Schloss in Greifensee begrüssen zu dürfen. Ihr TKK-Team 								\n				\n				\n				\n					        \n\n            \n            	    \n                \n\n                                                                \n                    Info & Anmeldung
URL:https://tescht2.skdv.ch/event/kick-off-berufsbild-servicetechniker/
LOCATION:Schloss Greifensee\, Im Städtli 24\, Greifensee\, 8606
CATEGORIES:Fachtagung
ATTACH;FMTTYPE=image/jpeg:https://tescht2.skdv.ch/wp-content/uploads/2024/08/TKK_KickOff_Servicetechniker.jpg
END:VEVENT
END:VCALENDAR