BEGIN:VCALENDAR
VERSION:2.0
PRODID:-//SKDV - schweizer service verband - ECPv6.15.18//NONSGML v1.0//EN
CALSCALE:GREGORIAN
METHOD:PUBLISH
X-WR-CALNAME:SKDV - schweizer service verband
X-ORIGINAL-URL:https://tescht2.skdv.ch
X-WR-CALDESC:Veranstaltungen für SKDV - schweizer service verband
REFRESH-INTERVAL;VALUE=DURATION:PT1H
X-Robots-Tag:noindex
X-PUBLISHED-TTL:PT1H
BEGIN:VTIMEZONE
TZID:Europe/Zurich
BEGIN:DAYLIGHT
TZOFFSETFROM:+0100
TZOFFSETTO:+0200
TZNAME:CEST
DTSTART:20220327T010000
END:DAYLIGHT
BEGIN:STANDARD
TZOFFSETFROM:+0200
TZOFFSETTO:+0100
TZNAME:CET
DTSTART:20221030T010000
END:STANDARD
BEGIN:DAYLIGHT
TZOFFSETFROM:+0100
TZOFFSETTO:+0200
TZNAME:CEST
DTSTART:20230326T010000
END:DAYLIGHT
BEGIN:STANDARD
TZOFFSETFROM:+0200
TZOFFSETTO:+0100
TZNAME:CET
DTSTART:20231029T010000
END:STANDARD
BEGIN:DAYLIGHT
TZOFFSETFROM:+0100
TZOFFSETTO:+0200
TZNAME:CEST
DTSTART:20240331T010000
END:DAYLIGHT
BEGIN:STANDARD
TZOFFSETFROM:+0200
TZOFFSETTO:+0100
TZNAME:CET
DTSTART:20241027T010000
END:STANDARD
END:VTIMEZONE
BEGIN:VEVENT
DTSTART;TZID=Europe/Zurich:20230329T133000
DTEND;TZID=Europe/Zurich:20230329T183000
DTSTAMP:20260423T053730
CREATED:20230202T131336Z
LAST-MODIFIED:20230202T131943Z
UID:5648-1680096600-1680114600@tescht2.skdv.ch
SUMMARY:Service Innovation Roundtable 2023
DESCRIPTION:Wachstumstreiber Service-Excellence				\n				\n				\n				\n									Das Service-Geschäft vieler Unternehmen befindet sich durch sich ändernde Kundenanforderungen sowie digitale Technologien in einem grossen Wandel. Kunden erwarten Lebenszyklus-orientierte Dienstleistungen\, ein positiveres Kundenerlebnis und wertgenerierende Angebote auf der Basis von neuen\, digitalen Geschäftsmodellen. Dabei unterstützen digitale Technologien wie KI\, Data Science\, Predictive Modelling\, Connectivity etc. das Service-Geschäft. Sie werden zu entscheidenden Enablern für das profitable Service-Wachstum. ​ Führende Unternehmen wie die Hilti-Gruppe entwickeln das Service-Geschäft auf der Basis von intensiver Service-Innovation konsequent weiter und bauen gezielt ein Digital Business auf. In der Konsequenz nimmt die Bedeutung von Software und Daten stark zu. 								\n				\n					\n		\n					\n		\n				\n						\n					\n			\n						\n				\n																\n															\n															\n				\n					\n		\n					\n		\n				\n						\n					\n			\n						\n				\n									Am Service Roundtable erfahren Sie\, Wie werden Wachstumschancen identifiziert und quantifiziert (Topline\, Bottomline)?Wie entwickelt man innovative Service-Angebote?Wie werden Service-Innovationen erfolgreich vermarktet und skaliert?Wie unterstützen digitale Technologien das Wachstum im Service-Geschäft?Wie transformiert man ein Unternehmen vom Produkt- zum Dienstleistungsunternehmen?								\n				\n					\n		\n				\n			\n						\n				\n									13.30  Empfang und Kaffee 13.45  Begrüssung  14.00  Zukünftige Wachstumstreiber des Service-Geschäfts\, Thomas Zellweger 14.45  Kurze Pause 15.00  Erfolgreiches Digitales (Service-)Geschäft bei Hilti\, Martin Inganäs 15.45  Moderiertes Roundtable 16.45  Schlussdiskussion im Plenum 17.00  Apéro 								\n				\n					\n		\n					\n		\n				\n				\n							\n			\n		\n						\n				\n				\n						\n					\n			\n						\n				\n									\n					\n						\n						\n							\n									Jetzt anmelden\n					\n					\n				\n								\n				\n				\n				\n							\n			\n		\n						\n				\n				\n				\n									\n					\n						\n						\n							\n									Event-Übersicht
URL:https://tescht2.skdv.ch/event/service-innovation-roundtable-2023/
LOCATION:Courtyard by Marriott Zürich Nord\, Max-Bill-Platz 19\, Zürich\, 8050
CATEGORIES:Fachtagung
ATTACH;FMTTYPE=image/jpeg:https://tescht2.skdv.ch/wp-content/uploads/2023/02/Zellweger_Roundtable_23.jpg
ORGANIZER;CN="Zellweger Management Consultants AG":MAILTO:ch@zellweger.com
END:VEVENT
END:VCALENDAR