BEGIN:VCALENDAR
VERSION:2.0
PRODID:-//SKDV - schweizer service verband - ECPv6.15.18//NONSGML v1.0//EN
CALSCALE:GREGORIAN
METHOD:PUBLISH
X-ORIGINAL-URL:https://tescht2.skdv.ch
X-WR-CALDESC:Veranstaltungen für SKDV - schweizer service verband
REFRESH-INTERVAL;VALUE=DURATION:PT1H
X-Robots-Tag:noindex
X-PUBLISHED-TTL:PT1H
BEGIN:VTIMEZONE
TZID:Europe/Zurich
BEGIN:DAYLIGHT
TZOFFSETFROM:+0100
TZOFFSETTO:+0200
TZNAME:CEST
DTSTART:20220327T010000
END:DAYLIGHT
BEGIN:STANDARD
TZOFFSETFROM:+0200
TZOFFSETTO:+0100
TZNAME:CET
DTSTART:20221030T010000
END:STANDARD
BEGIN:DAYLIGHT
TZOFFSETFROM:+0100
TZOFFSETTO:+0200
TZNAME:CEST
DTSTART:20230326T010000
END:DAYLIGHT
BEGIN:STANDARD
TZOFFSETFROM:+0200
TZOFFSETTO:+0100
TZNAME:CET
DTSTART:20231029T010000
END:STANDARD
BEGIN:DAYLIGHT
TZOFFSETFROM:+0100
TZOFFSETTO:+0200
TZNAME:CEST
DTSTART:20240331T010000
END:DAYLIGHT
BEGIN:STANDARD
TZOFFSETFROM:+0200
TZOFFSETTO:+0100
TZNAME:CET
DTSTART:20241027T010000
END:STANDARD
END:VTIMEZONE
BEGIN:VEVENT
DTSTART;VALUE=DATE:20231108
DTEND;VALUE=DATE:20231110
DTSTAMP:20260422T095242
CREATED:20231030T222506Z
LAST-MODIFIED:20231030T222553Z
UID:6286-1699401600-1699574399@tescht2.skdv.ch
SUMMARY:KVD Service Congress 2023
DESCRIPTION:Wie kann Digitalisierung helfen\, das Servicegeschäft zu stärken?				\n				\n				\n				\n									Der Absatz von Neumaschinen und Komponenten steht unter Druck – darum gewinnt das Servicegeschäft stark an Bedeutung. Die Potentiale sind gross wie z.B. Erhöhung der Effizienz durch Digitalisierung\, neue Geschäftsmodelle und Dienstleistungen\, KI und Predictive maintenance. In diesem neuen Eventformat diskutieren wir zusammen mit dem Publikum verschiedene Themengebiete. Tauchen Sie mit uns ein und entdecken Sie die Möglichkeiten\, die die Digitalisierung für das Servicegeschäft bereithält. 								\n				\n					\n		\n					\n		\n				\n						\n					\n			\n						\n				\n					Weitere Informationen & Anmeldung				\n				\n				\n				\n									\n					\n						\n									Event Webseite\n					\n					\n				\n								\n				\n				\n				\n							\n			\n		\n						\n				\n					\n		\n					\n		\n				\n				\n							\n			\n		\n						\n				\n				\n						\n					\n			\n						\n				\n							\n			\n		\n						\n				\n				\n				\n									\n					\n						\n						\n							\n									Event-Übersicht
URL:https://tescht2.skdv.ch/event/kvd-service-congress-2023/
LOCATION:Grand Hall ZOLLVEREIN®\, Kokereiallee 9\, Essen\, 45141\, Deutschland
CATEGORIES:Fachmesse,Fachtagung
ATTACH;FMTTYPE=image/jpeg:https://tescht2.skdv.ch/wp-content/uploads/2022/05/KVD_Service_Congress_2023.jpg
END:VEVENT
END:VCALENDAR