BEGIN:VCALENDAR
VERSION:2.0
PRODID:-//SKDV - schweizer service verband - ECPv6.15.18//NONSGML v1.0//EN
CALSCALE:GREGORIAN
METHOD:PUBLISH
X-WR-CALNAME:SKDV - schweizer service verband
X-ORIGINAL-URL:https://tescht2.skdv.ch
X-WR-CALDESC:Veranstaltungen für SKDV - schweizer service verband
REFRESH-INTERVAL;VALUE=DURATION:PT1H
X-Robots-Tag:noindex
X-PUBLISHED-TTL:PT1H
BEGIN:VTIMEZONE
TZID:Europe/Zurich
BEGIN:DAYLIGHT
TZOFFSETFROM:+0100
TZOFFSETTO:+0200
TZNAME:CEST
DTSTART:20220327T010000
END:DAYLIGHT
BEGIN:STANDARD
TZOFFSETFROM:+0200
TZOFFSETTO:+0100
TZNAME:CET
DTSTART:20221030T010000
END:STANDARD
BEGIN:DAYLIGHT
TZOFFSETFROM:+0100
TZOFFSETTO:+0200
TZNAME:CEST
DTSTART:20230326T010000
END:DAYLIGHT
BEGIN:STANDARD
TZOFFSETFROM:+0200
TZOFFSETTO:+0100
TZNAME:CET
DTSTART:20231029T010000
END:STANDARD
BEGIN:DAYLIGHT
TZOFFSETFROM:+0100
TZOFFSETTO:+0200
TZNAME:CEST
DTSTART:20240331T010000
END:DAYLIGHT
BEGIN:STANDARD
TZOFFSETFROM:+0200
TZOFFSETTO:+0100
TZNAME:CET
DTSTART:20241027T010000
END:STANDARD
END:VTIMEZONE
BEGIN:VEVENT
DTSTART;TZID=Europe/Zurich:20230523T114500
DTEND;TZID=Europe/Zurich:20230523T121500
DTSTAMP:20260423T015533
CREATED:20230320T023420Z
LAST-MODIFIED:20230320T051411Z
UID:5798-1684842300-1684844100@tescht2.skdv.ch
SUMMARY:Service Lunch: “Eating\, Learning\, Networking” – The digital ship
DESCRIPTION:Service Lunch: “Eating\, Learning\, Netzworking” – Digital Plan Revision Service at Siresca – From the Construction Site Directly into CAD				\n				\n				\n				\n									Anhand des Planrevisionsprozesses wird gezeigt\, wie Siresca digitale Dienste nutzt\, um die Datenqualität sicherzustellen\, die Zusammenarbeit zu vereinfachen und den gesamten Workflow von der Ausführung bis zur Planung vollständig zu digitalisieren. Referent: Julien Reutimann\, CEO\, Siresca AG 								\n				\n					\n		\n					\n		\n				\n						\n					\n			\n						\n				\n					Weitere Informationen & Anmeldung				\n				\n				\n				\n									\n					\n						\n									Event Webseite\n					\n					\n				\n								\n				\n				\n				\n							\n			\n		\n						\n				\n					\n		\n					\n		\n				\n				\n							\n			\n		\n						\n				\n				\n						\n					\n			\n						\n				\n							\n			\n		\n						\n				\n				\n				\n									\n					\n						\n						\n							\n									Event-Übersicht
URL:https://tescht2.skdv.ch/event/service-lunch-eating-learning-networking-the-digital-ship/
LOCATION:ONLINE (Microsoft Teams)
CATEGORIES:Service Lunch
ATTACH;FMTTYPE=image/png:https://tescht2.skdv.ch/wp-content/uploads/2021/03/EG-Smart-Services-Logo-Alle.png
ORGANIZER;CN="data innovation alliance":MAILTO:info.office@data-innovation.org
END:VEVENT
END:VCALENDAR