BEGIN:VCALENDAR
VERSION:2.0
PRODID:-//SKDV - schweizer service verband - ECPv6.15.18//NONSGML v1.0//EN
CALSCALE:GREGORIAN
METHOD:PUBLISH
X-WR-CALNAME:SKDV - schweizer service verband
X-ORIGINAL-URL:https://tescht2.skdv.ch
X-WR-CALDESC:Veranstaltungen für SKDV - schweizer service verband
REFRESH-INTERVAL;VALUE=DURATION:PT1H
X-Robots-Tag:noindex
X-PUBLISHED-TTL:PT1H
BEGIN:VTIMEZONE
TZID:Europe/Zurich
BEGIN:DAYLIGHT
TZOFFSETFROM:+0100
TZOFFSETTO:+0200
TZNAME:CEST
DTSTART:20210328T010000
END:DAYLIGHT
BEGIN:STANDARD
TZOFFSETFROM:+0200
TZOFFSETTO:+0100
TZNAME:CET
DTSTART:20211031T010000
END:STANDARD
BEGIN:DAYLIGHT
TZOFFSETFROM:+0100
TZOFFSETTO:+0200
TZNAME:CEST
DTSTART:20220327T010000
END:DAYLIGHT
BEGIN:STANDARD
TZOFFSETFROM:+0200
TZOFFSETTO:+0100
TZNAME:CET
DTSTART:20221030T010000
END:STANDARD
BEGIN:DAYLIGHT
TZOFFSETFROM:+0100
TZOFFSETTO:+0200
TZNAME:CEST
DTSTART:20230326T010000
END:DAYLIGHT
BEGIN:STANDARD
TZOFFSETFROM:+0200
TZOFFSETTO:+0100
TZNAME:CET
DTSTART:20231029T010000
END:STANDARD
END:VTIMEZONE
BEGIN:VEVENT
DTSTART;TZID=Europe/Zurich:20221026T163000
DTEND;TZID=Europe/Zurich:20221026T180000
DTSTAMP:20260424T135548
CREATED:20221003T104140Z
LAST-MODIFIED:20221003T110854Z
UID:5255-1666801800-1666807200@tescht2.skdv.ch
SUMMARY:SKDV Service Forum - Service-Trends im Schweizer Industriesektor
DESCRIPTION:SKDV Service Forum				\n				\n				\n				\n					Aktiver Austausch unter Mitgliedernund allen Service-Begeisterten				\n				\n				\n				\n									Die Gelegenheit um News\, Updates und Erfahrungen auszutauschen und aktuelle Themen zu diskutieren. 								\n				\n					\n		\n				\n			\n						\n				\n																														\n				\n				\n				\n																\n															\n															\n				\n					\n		\n					\n		\n				\n						\n					\n			\n						\n				\n																														\n				\n					\n		\n				\n			\n						\n				\n					Referat von Victor Callegari				\n				\n				\n				\n									Head Customer-related Services for the Manufacturing IndustryAWK Group AG 								\n				\n					\n		\n					\n		\n				\n						\n					\n			\n						\n				\n					Service-Trends im Schweizer Industriesektor - Handlungsfelder und Massnahmen				\n				\n				\n				\n									Schweizer Industrieunternehmen stehen vor enormen Herausforderungen. Besonders betroffen ist der Service\, da dieser zum einen stark auf eine persönliche Interaktion mit Kunden angewiesen ist und andererseits Kunden vermehrt Self-Service Angebote in Anspruch nehmen möchten. AWK nahm dies zum Anlass\, um basierend auf Interviews mit verschiedenen Serviceverantwortlichen langfristige Trends im Servicegeschäft zu diskutieren. Das Servicegeschäft ist in zahlreichen Schweizer Industrieunternehmen ein zentrales Element der Unternehmensstrategie. Im Vergleich zum traditionellen Produktgeschäft bieten Services drei wichtige Vorteile: 								\n				\n					\n		\n					\n		\n				\n						\n					\n			\n						\n				\n									Verständnis Kunde: Regelmässige Berührungspunkte mit den Kunden führen zu einem besseren Verständnis der Kundenbedürfnisse und einer engeren Kundenbindung.Finanzielle Vorteile: Services bringen im Durchschnitt ein höheres Umsatzwachstum und sind dadurch profitabler als das Produktgeschäft. Zudem sind Serviceverträge langfristig und generieren kontinuierliche und stabile Ertragsflüsse.Kenntnisse Produktnutzung: Über Servicedienstleistungen sammeln Firmen wertvolle Informationen zur Produktnutzung. Diese können für ein verfeinertes Produktdesign und eine optimierte Entwicklung neuer Produktgenerationen genutzt werden.								\n				\n					\n		\n					\n		\n				\n						\n					\n			\n						\n				\n									Schlussendlich ist und bleibt der Kundenservice auch ein wichtiges Differenzierungsmerkmal für ein Unternehmen. Eine kürzlich publizierte Studie hat gezeigt\, dass guter Kundenservice für die Weiterempfehlung einer Marke direkt nach der Produktqualität und der Markenattraktivität rangiert. 								\n				\n				\n				\n							\n			\n		\n						\n				\n				\n				\n																\n															\n															\n				\n					\n		\n					\n		\n				\n				\n							\n			\n		\n						\n				\n				\n						\n					\n			\n						\n				\n									\n					\n						\n						\n							\n									Event-Übersicht
URL:https://tescht2.skdv.ch/event/skdv-service-forum-service-trends-im-schweizer-industriesektor/
LOCATION:ONLINE (Zoom)
CATEGORIES:SKDV Service Forum
ATTACH;FMTTYPE=image/jpeg:https://tescht2.skdv.ch/wp-content/uploads/2019/05/knowhowmanagement.jpg
ORGANIZER;CN="SKDV":MAILTO:info@skdv.ch
END:VEVENT
END:VCALENDAR