BEGIN:VCALENDAR
VERSION:2.0
PRODID:-//SKDV - schweizer service verband - ECPv6.15.18//NONSGML v1.0//EN
CALSCALE:GREGORIAN
METHOD:PUBLISH
X-WR-CALNAME:SKDV - schweizer service verband
X-ORIGINAL-URL:https://tescht2.skdv.ch
X-WR-CALDESC:Veranstaltungen für SKDV - schweizer service verband
REFRESH-INTERVAL;VALUE=DURATION:PT1H
X-Robots-Tag:noindex
X-PUBLISHED-TTL:PT1H
BEGIN:VTIMEZONE
TZID:Europe/Zurich
BEGIN:DAYLIGHT
TZOFFSETFROM:+0100
TZOFFSETTO:+0200
TZNAME:CEST
DTSTART:20230326T010000
END:DAYLIGHT
BEGIN:STANDARD
TZOFFSETFROM:+0200
TZOFFSETTO:+0100
TZNAME:CET
DTSTART:20231029T010000
END:STANDARD
BEGIN:DAYLIGHT
TZOFFSETFROM:+0100
TZOFFSETTO:+0200
TZNAME:CEST
DTSTART:20240331T010000
END:DAYLIGHT
BEGIN:STANDARD
TZOFFSETFROM:+0200
TZOFFSETTO:+0100
TZNAME:CET
DTSTART:20241027T010000
END:STANDARD
BEGIN:DAYLIGHT
TZOFFSETFROM:+0100
TZOFFSETTO:+0200
TZNAME:CEST
DTSTART:20250330T010000
END:DAYLIGHT
BEGIN:STANDARD
TZOFFSETFROM:+0200
TZOFFSETTO:+0100
TZNAME:CET
DTSTART:20251026T010000
END:STANDARD
END:VTIMEZONE
BEGIN:VEVENT
DTSTART;TZID=Europe/Zurich:20240522T180000
DTEND;TZID=Europe/Zurich:20240522T210000
DTSTAMP:20260421T105953
CREATED:20240312T212552Z
LAST-MODIFIED:20240516T105705Z
UID:6461-1716400800-1716411600@tescht2.skdv.ch
SUMMARY:TKK-Podiums-Gespräch "Elektrische Arbeiten und Prüfungen im Service"
DESCRIPTION:Das Podiumsgespräch\, mit Dr. Nicole Kollars\, wird sich mit dem Verhalten und den Bedürfnissen der jüngsten Arbeitergenerationen auseinandersetzen und diese analysieren\, mit Vorurteilen aufräumen und eine neutralere Sicht auf dieses Thema ermöglichen. Nehmen wir doch die Herausforderung an und nutzen das Potential der jungen Fachkräfte. 								\n				\n				\n				\n									Agenda: 17:30 Eintreffen der Teilnehmer18:00 Begrüssung und Vorstellung18:10 Keynote Dr. Nicole Kollars18:45 Podiumsdiskussion20:00 Apéro und Networking 								\n				\n				\n				\n									Reservieren Sie sich das Datum und melden Sie sich mit nachfolgendem Link gleich an. Wir freuen uns darauf\, Sie am 21. Oktober 2025 im historischen Schloss in Greifensee begrüssen zu dürfen. 								\n				\n					\n		\n					\n		\n				\n						\n					\n			\n						\n				\n					        \n\n            \n            	    \n                \n\n                                                                \n                    Jetzt anmelden\n\n                                    \n	                        \n        \n        				\n				\n				\n				\n																\n															\n															\n				\n					\n		\n					\n		\n				\n						\n					\n			\n							\n		\n					\n		\n				\n						\n					\n			\n						\n				\n							\n			\n		\n						\n				\n				\n				\n									\n					\n						\n						\n							\n									Event-Übersicht
URL:https://tescht2.skdv.ch/event/tkk-podiums-gespraech-elektrische-arbeiten-und-pruefungen-im-service/
LOCATION:Schloss Greifensee\, Im Städtli 24\, Greifensee\, 8606
CATEGORIES:Fachtagung
ATTACH;FMTTYPE=image/jpeg:https://tescht2.skdv.ch/wp-content/uploads/2024/03/TKK-Podiums-Gespraech-Strom.jpg
END:VEVENT
END:VCALENDAR