BEGIN:VCALENDAR
VERSION:2.0
PRODID:-//SKDV - schweizer service verband - ECPv6.15.18//NONSGML v1.0//EN
CALSCALE:GREGORIAN
METHOD:PUBLISH
X-ORIGINAL-URL:https://tescht2.skdv.ch
X-WR-CALDESC:Veranstaltungen für SKDV - schweizer service verband
REFRESH-INTERVAL;VALUE=DURATION:PT1H
X-Robots-Tag:noindex
X-PUBLISHED-TTL:PT1H
BEGIN:VTIMEZONE
TZID:Europe/Zurich
BEGIN:DAYLIGHT
TZOFFSETFROM:+0100
TZOFFSETTO:+0200
TZNAME:CEST
DTSTART:20220327T010000
END:DAYLIGHT
BEGIN:STANDARD
TZOFFSETFROM:+0200
TZOFFSETTO:+0100
TZNAME:CET
DTSTART:20221030T010000
END:STANDARD
BEGIN:DAYLIGHT
TZOFFSETFROM:+0100
TZOFFSETTO:+0200
TZNAME:CEST
DTSTART:20230326T010000
END:DAYLIGHT
BEGIN:STANDARD
TZOFFSETFROM:+0200
TZOFFSETTO:+0100
TZNAME:CET
DTSTART:20231029T010000
END:STANDARD
BEGIN:DAYLIGHT
TZOFFSETFROM:+0100
TZOFFSETTO:+0200
TZNAME:CEST
DTSTART:20240331T010000
END:DAYLIGHT
BEGIN:STANDARD
TZOFFSETFROM:+0200
TZOFFSETTO:+0100
TZNAME:CET
DTSTART:20241027T010000
END:STANDARD
END:VTIMEZONE
BEGIN:VEVENT
DTSTART;TZID=Europe/Zurich:20230510T140000
DTEND;TZID=Europe/Zurich:20230510T180000
DTSTAMP:20260423T123729
CREATED:20221216T120314Z
LAST-MODIFIED:20230508T151918Z
UID:5506-1683727200-1683741600@tescht2.skdv.ch
SUMMARY:Service Inside Fachvortrag mit Betriebsbesichtigung KYBURZ Switzerland AG
DESCRIPTION:Service Inside zu Besuch bei Kyburz Switzerland AG in Freienstein				\n				\n				\n				\n									Service-Inside bietet Ihnen Einblicke in interessante Mitglieds-Unternehmen und deren Service-Strategien. Nebst spannenden Fachvorträgen und einer anschliessenden Betriebsbesichtigung\, haben Sie beim Apéro Gelegenheit\, Kontakte zu pflegen und Erfahrungen auszutauschen. 								\n				\n					\n		\n				\n			\n						\n				\n																\n															\n															\n				\n					\n		\n					\n		\n				\n						\n					\n			\n						\n				\n					Nachhaltigkeit / Kreislaufwirtschaft im Fahrzeugbau 				\n				\n				\n				\n																														\n				\n				\n				\n									Wer kennt sie nicht\, die gelben Elektrofahrzeuge der Post oder die coolen Elektro-Roadster\, welche immer die Blicke auf sich ziehen. Aber wer kennt die Firma dahinter?Kommen Sie mit dem SKDV Service Inside auf eine spannende Reise zu einem Pionier der Elektromobilität und wahren Champion. Erfahren Sie aus erster Hand was Customer Services im Umfeld von Elektrofahrzeugen bedeutet und welche Herausforderungen das Team bewältigt. Reservieren Sie sich schon heute den 10. Mai 2023 und lernen Sie mehr über das Unternehmen\, die KYBURZ Switzerland AG\, den Service und Ihre Kunden. Wir\, die KYBURZ Switzerland AG und der Veranstalter der SKDV Service Inside\, freuen uns auf Ihre Teilnahme. 								\n				\n					\n		\n					\n		\n				\n						\n					\n			\n						\n				\n					Programm				\n				\n				\n				\n							\n			\n				\n			\n\n			\n								\n						\n\n				\n											\n							14:00 Uhr						\n						\n				\n\n				\n									\n					\n																									\n				\n								\n				\n													\n												\n														\n								\n									\n																					\n												14:00 Uhr											\n																				\n									Eintreffen der Besucher								\n							\n													\n										\n\n			\n								\n						\n\n				\n											\n							14:15 Uhr						\n						\n				\n\n				\n									\n					\n																									\n				\n								\n				\n													\n												\n														\n								\n									\n																					\n												14:15 Uhr											\n																				\n									Begrüssung durch den SKDVVorstellung Service Inside und Veranstalter ankündigen 								\n							\n													\n										\n\n			\n								\n						\n\n				\n											\n							14:30 Uhr						\n						\n				\n\n				\n									\n					\n																									\n				\n								\n				\n													\n												\n														\n								\n									\n																					\n												14:30 Uhr											\n																				\n									Präsentation durch Flurin Vicentini\, Stv. CEOVorstellung der Firma KYBURZ und des KYBURZ Multilife-Konzepts 								\n							\n													\n										\n\n			\n								\n						\n\n				\n											\n							15:00 Uhr						\n						\n				\n\n				\n									\n					\n																									\n				\n								\n				\n													\n												\n														\n								\n									\n																					\n												15:00 Uhr											\n																				\n									Fragerunde								\n							\n													\n										\n\n			\n								\n						\n\n				\n											\n							15:30 Uhr						\n						\n				\n\n				\n									\n					\n																									\n				\n								\n				\n													\n												\n														\n								\n									\n																					\n												15:30 Uhr											\n																				\n									Rundgang & Probefahren								\n							\n													\n										\n\n			\n								\n						\n\n				\n											\n							17:00 Uhr						\n						\n				\n\n				\n									\n					\n																									\n				\n								\n				\n													\n												\n														\n								\n									\n																					\n												17:00 Uhr											\n																				\n									SKDV Informationen								\n							\n													\n										\n\n			\n								\n						\n\n				\n											\n							17:30 Uhr						\n						\n				\n\n				\n									\n					\n																									\n				\n								\n				\n													\n												\n														\n								\n									\n																					\n												17:30 Uhr											\n																				\n									Aperos und NetzwerkenDer Aperos wird in den Räumlichkeiten des Veranstalters durchgeführt 								\n							\n													\n										\n\n			\n								\n						\n\n				\n											\n							18:30 Uhr						\n						\n				\n\n				\n									\n					\n																									\n				\n								\n				\n													\n												\n														\n								\n									\n																					\n												18:30 Uhr											\n																				\n									Ende der VeranstaltungVerabschiedung der Delegation 								\n							\n													\n										\n\n			\n						\n\n						\n				\n					\n		\n					\n		\n				\n						\n					\n			\n						\n				\n																														\n				\n					\n		\n					\n		\n				\n				\n							\n			\n		\n						\n				\n				\n						\n					\n			\n						\n				\n							\n			\n		\n						\n				\n				\n				\n									\n					\n						\n						\n							\n									Event-Übersicht
URL:https://tescht2.skdv.ch/event/service-inside-fachvortrag-mit-betriebsbesichtigung-kyburz/
LOCATION:KYBURZ Switzerland AG\, Shedweg 2-8\, Freienstein\, 8427
CATEGORIES:SKDV Service Inside
ATTACH;FMTTYPE=image/jpeg:https://tescht2.skdv.ch/wp-content/uploads/2022/12/KYBURZ_SKDV_2023.jpg
ORGANIZER;CN="SKDV":MAILTO:info@skdv.ch
END:VEVENT
END:VCALENDAR