BEGIN:VCALENDAR
VERSION:2.0
PRODID:-//SKDV - schweizer service verband - ECPv6.15.18//NONSGML v1.0//EN
CALSCALE:GREGORIAN
METHOD:PUBLISH
X-WR-CALNAME:SKDV - schweizer service verband
X-ORIGINAL-URL:https://tescht2.skdv.ch
X-WR-CALDESC:Veranstaltungen für SKDV - schweizer service verband
REFRESH-INTERVAL;VALUE=DURATION:PT1H
X-Robots-Tag:noindex
X-PUBLISHED-TTL:PT1H
BEGIN:VTIMEZONE
TZID:Europe/Zurich
BEGIN:DAYLIGHT
TZOFFSETFROM:+0100
TZOFFSETTO:+0200
TZNAME:CEST
DTSTART:20220327T010000
END:DAYLIGHT
BEGIN:STANDARD
TZOFFSETFROM:+0200
TZOFFSETTO:+0100
TZNAME:CET
DTSTART:20221030T010000
END:STANDARD
BEGIN:DAYLIGHT
TZOFFSETFROM:+0100
TZOFFSETTO:+0200
TZNAME:CEST
DTSTART:20230326T010000
END:DAYLIGHT
BEGIN:STANDARD
TZOFFSETFROM:+0200
TZOFFSETTO:+0100
TZNAME:CET
DTSTART:20231029T010000
END:STANDARD
BEGIN:DAYLIGHT
TZOFFSETFROM:+0100
TZOFFSETTO:+0200
TZNAME:CEST
DTSTART:20240331T010000
END:DAYLIGHT
BEGIN:STANDARD
TZOFFSETFROM:+0200
TZOFFSETTO:+0100
TZNAME:CET
DTSTART:20241027T010000
END:STANDARD
END:VTIMEZONE
BEGIN:VEVENT
DTSTART;TZID=Europe/Zurich:20230622T140000
DTEND;TZID=Europe/Zurich:20230622T180000
DTSTAMP:20260423T064455
CREATED:20230515T121738Z
LAST-MODIFIED:20230515T122310Z
UID:5960-1687442400-1687456800@tescht2.skdv.ch
SUMMARY:Digitale Geschäftsmodelle als Schlüssel zum Erfolg
DESCRIPTION:Von Workplace und Business-Applications zu IoT/AR				\n				\n					\n		\n					\n		\n				\n						\n					\n			\n						\n				\n									Ambit lädt Entscheidungsträger auf C-Level zu einem inspirierenden Event zur Microsoft Platform ein. Unternehmen stehen vor strategischen Weichenstellungen im Rahmen der digitalen Transformation. Dabei sind digitale Geschäftsmodelle ein signifikanter Erfolgsfaktor für künftige Wertschöpfungsketten. Sie ermöglichen eine echte Differenzierung\, in einem immer stärkeren Wettbewerbsumfeld sowie die Gewinnung neuer Kunden und Mitarbeitenden. Microsoft bietet mit dem Ansatz «Do more with less» Organisationen einzigartige Möglichkeiten zur Erreichung ambitionierter Ziele.​ 								\n				\n				\n				\n																														\n				\n					\n		\n					\n		\n				\n				\n							\n			\n		\n						\n				\n				\n						\n					\n			\n						\n				\n									Um auf einer strategischen Ebene einen Einblick zu geben\, haben sich vier führende Schweizer Microsoft-Partner\, mit ihren jeweiligen Spezialdisziplinen\, zusammengetan und einen besonderen Event vorbereitet. Anhand konkreter Beispiele im Rahmen von Kundendienst-/Field Service-Szenarien werden die vier Themenfelder rund um die digitale Transformation aufgezeigt:​ IT-Infrastruktur und Modern Workplace – Wie sieht der Arbeitsplatz der Zukunft aus?​Business Applikationen – Digitalisierung und Automatisierung von Geschäftsprozessen als Performancetreiber​Internet of Things (IoT) – Entdecken Sie Optimierungspotential im Unternehmen\, indem alles mit der Cloud verbunden wird​Virtual-\, Augmented- und Mixed Reality – Wie schaffe ich echten Mehrwert und eine einzigartige Kunden- und Serviceerfahrung?								\n				\n					\n		\n					\n		\n				\n				\n							\n			\n		\n						\n				\n				\n						\n					\n			\n						\n				\n					Jetzt anmelden:				\n				\n				\n				\n									\n					\n						\n						\n							\n									Infos & Anmeldung\n					\n					\n				\n								\n				\n					\n		\n					\n		\n				\n						\n					\n			\n						\n				\n									\n					\n						\n						\n							\n									Event-Übersicht
URL:https://tescht2.skdv.ch/event/digitale-geschaeftsmodelle-als-schluessel-zum-erfolg/
LOCATION:Microsoft Schweiz\, Flughafen Zürich\, The Circle 02\, Zürich\, 8058\, Schweiz
CATEGORIES:Fachtagung
ATTACH;FMTTYPE=image/jpeg:https://tescht2.skdv.ch/wp-content/uploads/2023/05/MS_Ambit_2023.jpg
END:VEVENT
END:VCALENDAR