BEGIN:VCALENDAR
VERSION:2.0
PRODID:-//SKDV - schweizer service verband - ECPv6.15.18//NONSGML v1.0//EN
CALSCALE:GREGORIAN
METHOD:PUBLISH
X-WR-CALNAME:SKDV - schweizer service verband
X-ORIGINAL-URL:https://tescht2.skdv.ch
X-WR-CALDESC:Veranstaltungen für SKDV - schweizer service verband
REFRESH-INTERVAL;VALUE=DURATION:PT1H
X-Robots-Tag:noindex
X-PUBLISHED-TTL:PT1H
BEGIN:VTIMEZONE
TZID:Europe/Zurich
BEGIN:DAYLIGHT
TZOFFSETFROM:+0100
TZOFFSETTO:+0200
TZNAME:CEST
DTSTART:20200329T010000
END:DAYLIGHT
BEGIN:STANDARD
TZOFFSETFROM:+0200
TZOFFSETTO:+0100
TZNAME:CET
DTSTART:20201025T010000
END:STANDARD
BEGIN:DAYLIGHT
TZOFFSETFROM:+0100
TZOFFSETTO:+0200
TZNAME:CEST
DTSTART:20210328T010000
END:DAYLIGHT
BEGIN:STANDARD
TZOFFSETFROM:+0200
TZOFFSETTO:+0100
TZNAME:CET
DTSTART:20211031T010000
END:STANDARD
BEGIN:DAYLIGHT
TZOFFSETFROM:+0100
TZOFFSETTO:+0200
TZNAME:CEST
DTSTART:20220327T010000
END:DAYLIGHT
BEGIN:STANDARD
TZOFFSETFROM:+0200
TZOFFSETTO:+0100
TZNAME:CET
DTSTART:20221030T010000
END:STANDARD
END:VTIMEZONE
BEGIN:VEVENT
DTSTART;VALUE=DATE:20211110
DTEND;VALUE=DATE:20211112
DTSTAMP:20260426T040648
CREATED:20210819T080856Z
LAST-MODIFIED:20210819T081201Z
UID:4069-1636502400-1636675199@tescht2.skdv.ch
SUMMARY:KVD Service Congress - digital 2021
DESCRIPTION:New or Normal: Der Service als Treiber				\n				\n					\n		\n					\n		\n				\n						\n					\n			\n						\n				\n									Der KVD Service Congress ist zurück: Networking\, Kontaktpflege\, Wissensvermittlung – all das ist wieder möglich am 9. und 10. November 2022\, mit neuem Konzept\, in neuer Location und mit neuen Themen. „New or normal – der Service als Treiber“ lautet der Congress-Titel\, und wir greifen damit nicht nur die tiefgreifenden Veränderungen der letzten zwei Jahre auf\, sondern beschäftigen uns auch intensiv mit den Auswirkungen der Dienstleistungswende auf den Service der Zukunft. Keynotes\, Workshops\, Expertenforen\, Podiumsdiskussionen und jede Menge Networking an den Messeständen – melden Sie sich an zum KVD Service Congress 2022. 								\n				\n					\n		\n				\n			\n						\n				\n																														\n				\n				\n				\n									\n					\n						\n									Zur Congress-Webseite\n					\n					\n				\n								\n				\n					\n		\n					\n		\n				\n						\n					\n			\n						\n				\n							\n					\n						\n				\n				\n				\n									TeilnahmegebührDie Teilnahmegebühr beträgt 1290.- Euro zzgl. MwSt. für KVD-Mitglieder bzw. 1590.- Euro zzgl. MwSt. für Nicht-Mitglieder. Bis zum 30.06. profitieren Sie von einem Frühbucherrabatt von 300\,- Euro. 								\n				\n				\n				\n					Sonderkonditionen für SKDV Mitglieder				\n				\n				\n				\n									Als SKDV-Mitglied können Sie zu den selben Konditionen wie KVD-Mitglieder teilnehmen! Nehmen Sie vor der Anmeldung mit uns Kontakt auf\, um vom Rabatt profitieren zu können. 								\n				\n				\n				\n									\n					\n						\n									Anmeldung für SKDV-Mitglieder\n					\n					\n				\n								\n				\n				\n				\n							\n			\n		\n						\n				\n				\n				\n									\n					\n						\n						\n							\n									Event-Übersicht
URL:https://tescht2.skdv.ch/event/kvd-service-congress-digital-2021/
LOCATION:ONLINE
CATEGORIES:Fachmesse,Fachtagung,Online-Event
ATTACH;FMTTYPE=image/jpeg:https://tescht2.skdv.ch/wp-content/uploads/2021/08/kvd-service-congress-digital-2021.jpg
END:VEVENT
END:VCALENDAR