BEGIN:VCALENDAR
VERSION:2.0
PRODID:-//SKDV - schweizer service verband - ECPv6.15.18//NONSGML v1.0//EN
CALSCALE:GREGORIAN
METHOD:PUBLISH
X-WR-CALNAME:SKDV - schweizer service verband
X-ORIGINAL-URL:https://tescht2.skdv.ch
X-WR-CALDESC:Veranstaltungen für SKDV - schweizer service verband
REFRESH-INTERVAL;VALUE=DURATION:PT1H
X-Robots-Tag:noindex
X-PUBLISHED-TTL:PT1H
BEGIN:VTIMEZONE
TZID:Europe/Zurich
BEGIN:DAYLIGHT
TZOFFSETFROM:+0100
TZOFFSETTO:+0200
TZNAME:CEST
DTSTART:20210328T010000
END:DAYLIGHT
BEGIN:STANDARD
TZOFFSETFROM:+0200
TZOFFSETTO:+0100
TZNAME:CET
DTSTART:20211031T010000
END:STANDARD
BEGIN:DAYLIGHT
TZOFFSETFROM:+0100
TZOFFSETTO:+0200
TZNAME:CEST
DTSTART:20220327T010000
END:DAYLIGHT
BEGIN:STANDARD
TZOFFSETFROM:+0200
TZOFFSETTO:+0100
TZNAME:CET
DTSTART:20221030T010000
END:STANDARD
BEGIN:DAYLIGHT
TZOFFSETFROM:+0100
TZOFFSETTO:+0200
TZNAME:CEST
DTSTART:20230326T010000
END:DAYLIGHT
BEGIN:STANDARD
TZOFFSETFROM:+0200
TZOFFSETTO:+0100
TZNAME:CET
DTSTART:20231029T010000
END:STANDARD
END:VTIMEZONE
BEGIN:VEVENT
DTSTART;VALUE=DATE:20220518
DTEND;VALUE=DATE:20220520
DTSTAMP:20260426T054216
CREATED:20220323T110943Z
LAST-MODIFIED:20220323T111408Z
UID:4657-1652832000-1653004799@tescht2.skdv.ch
SUMMARY:The Future of Customer Service
DESCRIPTION:Produkte und Dienstleistungen werden immer mehr zu Commodities. Großartige Kundenerlebnisse bei jedem einzelnen Schritt entlang der Customer Journey werden zum entscheidenden Faktor zwischen Erfolg und Misserfolg.				\n				\n					\n		\n				\n			\n						\n				\n																\n															\n															\n				\n					\n		\n					\n		\n				\n						\n					\n			\n						\n				\n									Welche Trends prägen die Zukunft des Customer Service\, und wie müssen sich Unternehmen organisieren\, um eine Wirkung zu erzielen\, die für Ihre Kunden wichtig ist? Aktuell sprechen viele von Omnichannel als dem heiligen Gral des Customer Service. Große Investitionen sind in den Aufbau der verschiedenen Kanäle und deren Integration geflossen. Die Zeit bleibt nicht stehen. Conversational AI und Automatisierungs-Technologien wirbeln viele Geschäftsmodelle durcheinander; neue Formen der Arbeitsorganisation wie remote work\, work from home etablieren sich und das Kundenverhalten verändert sich stetig weiter. 								\n				\n					\n		\n					\n		\n				\n						\n					\n			\n						\n				\n									Mit dem Event The Future of Customer Service wollen wir 4 Kernthemen präsentieren: Der Kunde der Zukunft. Was er erwartet\, was für ihn wichtig ist und was sich für den Customer Service daraus ableitetWie sehen Customer Service Strategien der Zukunft aus?Conversational Business – Das Zusammenspiel AI und Digitalisierung im Customer ServiceCustomer Service Excellence – Management und Steuerung für nachhaltigen ErfolgJedes Thema wird wissenschaftlich begleitet; Keynotes\, Leuchtturmprojekte\, Deep Dives\, Live Demos beleuchten ein Thema aus unterschiedlichen Perspektiven und bieten wertvolle Entscheidungsgrundlagen für die eigene Strategie. The Future of Customer Service ist ein rein virtuelles Event wie alle unsere Veranstaltungen. Planungssicherheit\, einfache\, bequeme Teilnahme von zuhause oder dem Büro\, Zeit\, Kostenersparnis und die digitalen Möglichkeiten des Kennenlernens und des Dialogs sprechen für dieses Format. 								\n				\n					\n		\n					\n		\n				\n				\n							\n			\n		\n						\n				\n				\n						\n					\n			\n						\n				\n					        \n\n            \n            	    \n                \n\n                                                                \n                    Programm & Anmeldung\n\n                                    \n	                        \n        \n        				\n				\n				\n				\n							\n			\n		\n						\n				\n				\n				\n									\n					\n						\n						\n							\n									Event-Übersicht
URL:https://tescht2.skdv.ch/event/the-future-of-customer-service/
LOCATION:ONLINE
CATEGORIES:Fachtagung,Online-Event
ATTACH;FMTTYPE=image/jpeg:https://tescht2.skdv.ch/wp-content/uploads/2022/03/i-cem_The_Future_of_Customer_Service_2022.jpg
END:VEVENT
END:VCALENDAR