BEGIN:VCALENDAR
VERSION:2.0
PRODID:-//SKDV - schweizer service verband - ECPv6.15.18//NONSGML v1.0//EN
CALSCALE:GREGORIAN
METHOD:PUBLISH
X-WR-CALNAME:SKDV - schweizer service verband
X-ORIGINAL-URL:https://tescht2.skdv.ch
X-WR-CALDESC:Veranstaltungen für SKDV - schweizer service verband
REFRESH-INTERVAL;VALUE=DURATION:PT1H
X-Robots-Tag:noindex
X-PUBLISHED-TTL:PT1H
BEGIN:VTIMEZONE
TZID:Europe/Zurich
BEGIN:DAYLIGHT
TZOFFSETFROM:+0100
TZOFFSETTO:+0200
TZNAME:CEST
DTSTART:20220327T010000
END:DAYLIGHT
BEGIN:STANDARD
TZOFFSETFROM:+0200
TZOFFSETTO:+0100
TZNAME:CET
DTSTART:20221030T010000
END:STANDARD
BEGIN:DAYLIGHT
TZOFFSETFROM:+0100
TZOFFSETTO:+0200
TZNAME:CEST
DTSTART:20230326T010000
END:DAYLIGHT
BEGIN:STANDARD
TZOFFSETFROM:+0200
TZOFFSETTO:+0100
TZNAME:CET
DTSTART:20231029T010000
END:STANDARD
BEGIN:DAYLIGHT
TZOFFSETFROM:+0100
TZOFFSETTO:+0200
TZNAME:CEST
DTSTART:20240331T010000
END:DAYLIGHT
BEGIN:STANDARD
TZOFFSETFROM:+0200
TZOFFSETTO:+0100
TZNAME:CET
DTSTART:20241027T010000
END:STANDARD
END:VTIMEZONE
BEGIN:VEVENT
DTSTART;TZID=Europe/Zurich:20230920T163000
DTEND;TZID=Europe/Zurich:20230920T180000
DTSTAMP:20260422T235238
CREATED:20230726T115437Z
LAST-MODIFIED:20230913T025503Z
UID:6066-1695227400-1695232800@tescht2.skdv.ch
SUMMARY:SKDV Service Forum - Geschäftsreisen die funktionieren
DESCRIPTION:SKDV Service Forum				\n				\n				\n				\n					Aktiver Austausch unter Mitgliedernund allen Service-Begeisterten				\n				\n				\n				\n									Die Gelegenheit um News\, Updates und Erfahrungen auszutauschen und aktuelle Themen zu diskutieren. 								\n				\n					\n		\n				\n			\n						\n				\n																														\n				\n				\n				\n																\n															\n															\n				\n					\n		\n					\n		\n				\n						\n					\n			\n						\n				\n					Referat				\n				\n				\n				\n									Weltweit pünktlich und entspannt zum nächsten Service-Einsatz\, Meeting oder Event! Welche Vorteile kann Ihnen und Ihrem Unternehmen ein Reisepartner bieten? Die Organisation von Geschäftsreisen beinhaltet Reiseverbindungen\, Flugtickets\, Transfers\, Unterkünfte\, Meetingräume\, Transport/Mietwagen\, Umgang mit fremden Kulturen\, sowie schnelle Lösungen bei unerwarteten  Änderungen.  Technologie:Von der Buchungsplattform bis zur Reiseplanungs-App Schnelle Reaktion:Alle Anfragen werden innerhalb von 2 Stunden beantwortet. Effizientes Reisebudget:Die besten Tarife dank neuesten Technologien\, Verhandlungsgeschick und Fachwissen. Reisedokumente:Beschaffung von Visa\, ESTA oder weiteren Dokumente damit die Ein- und Ausreise reibungslos funktioniert. 24/7 Service: Unterstützung zu jeder Zeit bei Notfällen und kurzfristigen Änderungen. Transparenz und Kontrolle:Einblicke in Statistiken und Auswertungen für fundierte Entscheidungen\, um die Reisekosten umfassend zu optimieren.   Referent: Stefan WyssIT & Sales ManagerCrystal Travel AG 								\n				\n					\n		\n					\n		\n				\n				\n							\n			\n		\n						\n				\n				\n						\n					\n			\n						\n				\n									\n					\n						\n						\n							\n									Event-Übersicht
URL:https://tescht2.skdv.ch/event/skdv-service-forum-geschaeftsreisen-die-funktionieren/
LOCATION:ONLINE (Zoom)
CATEGORIES:SKDV Service Forum
ATTACH;FMTTYPE=image/jpeg:https://tescht2.skdv.ch/wp-content/uploads/2019/05/knowhowmanagement.jpg
ORGANIZER;CN="SKDV":MAILTO:info@skdv.ch
END:VEVENT
END:VCALENDAR