BEGIN:VCALENDAR
VERSION:2.0
PRODID:-//SKDV - schweizer service verband - ECPv6.15.18//NONSGML v1.0//EN
CALSCALE:GREGORIAN
METHOD:PUBLISH
X-WR-CALNAME:SKDV - schweizer service verband
X-ORIGINAL-URL:https://tescht2.skdv.ch
X-WR-CALDESC:Veranstaltungen für SKDV - schweizer service verband
REFRESH-INTERVAL;VALUE=DURATION:PT1H
X-Robots-Tag:noindex
X-PUBLISHED-TTL:PT1H
BEGIN:VTIMEZONE
TZID:Europe/Zurich
BEGIN:DAYLIGHT
TZOFFSETFROM:+0100
TZOFFSETTO:+0200
TZNAME:CEST
DTSTART:20230326T010000
END:DAYLIGHT
BEGIN:STANDARD
TZOFFSETFROM:+0200
TZOFFSETTO:+0100
TZNAME:CET
DTSTART:20231029T010000
END:STANDARD
BEGIN:DAYLIGHT
TZOFFSETFROM:+0100
TZOFFSETTO:+0200
TZNAME:CEST
DTSTART:20240331T010000
END:DAYLIGHT
BEGIN:STANDARD
TZOFFSETFROM:+0200
TZOFFSETTO:+0100
TZNAME:CET
DTSTART:20241027T010000
END:STANDARD
BEGIN:DAYLIGHT
TZOFFSETFROM:+0100
TZOFFSETTO:+0200
TZNAME:CEST
DTSTART:20250330T010000
END:DAYLIGHT
BEGIN:STANDARD
TZOFFSETFROM:+0200
TZOFFSETTO:+0100
TZNAME:CET
DTSTART:20251026T010000
END:STANDARD
END:VTIMEZONE
BEGIN:VEVENT
DTSTART;TZID=Europe/Zurich:20241024T115000
DTEND;TZID=Europe/Zurich:20241024T130000
DTSTAMP:20260421T031433
CREATED:20241009T112105Z
LAST-MODIFIED:20250301T121818Z
UID:6968-1729770600-1729774800@tescht2.skdv.ch
SUMMARY:Tage der Technik 2024
DESCRIPTION:Das erwartet Sie				\n				\n				\n				\n									Die Fachveranstaltung bietet einen exklusiven Einblick in einen preisgekrönten Generative AI Use Case der Echtzeitdaten und Knowledge Management im IoT-Bereich verbindet. 								\n				\n					\n		\n					\n		\n				\n						\n					\n			\n						\n				\n									Dabei werden Fehlermeldungen und Anlagedaten mit strukturierten und unstrukturierten Firmendaten verknüpft\, um so dem Benutzer einen smarten Self-Service zu bieten. Zusätzlich werden weitere innovative Generative AI Use Cases und Anwendungen für Unternehmen vorgestellt. Referenten: Chris Bochsler\, Managing Partner Cando Image GmbHJürg Meienhofer und Jochen Wulf führen durch die Veranstaltung Im Anschluss an die Vorträge offerieren wir den Teilnehmenden ein Sandwich und Getränk und es besteht die Möglichkeit\, sich mit den anderen Gästen und den Referenten auszutauschen. Die Anzahl der Plätze ist beschränkt. 								\n				\n					\n		\n				\n			\n						\n				\n																\n															\n															\n				\n				\n				\n									\n					\n						\n						\n							\n									Download Flyer\n					\n					\n				\n								\n				\n					\n		\n					\n		\n				\n						\n					\n			\n						\n				\n							\n			\n		\n						\n				\n				\n				\n									\n					\n						\n						\n							\n									Jetzt anmelden\n					\n					\n				\n								\n				\n				\n				\n					SKDV-Mitglieder profitieren von 10% Rabatt!				\n				\n				\n				\n									Wir senden Ihnen auf Anfrage gerne den Rabatt-Code zu: 								\n				\n				\n				\n									\n					\n						\n						\n							\n									Kontaktieren Sie uns\n					\n					\n				\n								\n				\n				\n				\n							\n			\n		\n						\n				\n				\n				\n									\n					\n						\n						\n							\n									Event-Übersicht
URL:https://tescht2.skdv.ch/event/tage-der-technik-2024/
LOCATION:ZHAW School of Engineering\, Gebäude TN\, Technikumstrasse 71\, Winterthur
CATEGORIES:Fachtagung
ATTACH;FMTTYPE=image/jpeg:https://tescht2.skdv.ch/wp-content/uploads/2024/10/Tage-der-Technik-2024.jpg
END:VEVENT
END:VCALENDAR