BEGIN:VCALENDAR
VERSION:2.0
PRODID:-//SKDV - schweizer service verband - ECPv6.15.18//NONSGML v1.0//EN
CALSCALE:GREGORIAN
METHOD:PUBLISH
X-ORIGINAL-URL:https://tescht2.skdv.ch
X-WR-CALDESC:Veranstaltungen für SKDV - schweizer service verband
REFRESH-INTERVAL;VALUE=DURATION:PT1H
X-Robots-Tag:noindex
X-PUBLISHED-TTL:PT1H
BEGIN:VTIMEZONE
TZID:Europe/Zurich
BEGIN:DAYLIGHT
TZOFFSETFROM:+0100
TZOFFSETTO:+0200
TZNAME:CEST
DTSTART:20220327T010000
END:DAYLIGHT
BEGIN:STANDARD
TZOFFSETFROM:+0200
TZOFFSETTO:+0100
TZNAME:CET
DTSTART:20221030T010000
END:STANDARD
BEGIN:DAYLIGHT
TZOFFSETFROM:+0100
TZOFFSETTO:+0200
TZNAME:CEST
DTSTART:20230326T010000
END:DAYLIGHT
BEGIN:STANDARD
TZOFFSETFROM:+0200
TZOFFSETTO:+0100
TZNAME:CET
DTSTART:20231029T010000
END:STANDARD
BEGIN:DAYLIGHT
TZOFFSETFROM:+0100
TZOFFSETTO:+0200
TZNAME:CEST
DTSTART:20240331T010000
END:DAYLIGHT
BEGIN:STANDARD
TZOFFSETFROM:+0200
TZOFFSETTO:+0100
TZNAME:CET
DTSTART:20241027T010000
END:STANDARD
END:VTIMEZONE
BEGIN:VEVENT
DTSTART;TZID=Europe/Zurich:20231018T140000
DTEND;TZID=Europe/Zurich:20231018T180000
DTSTAMP:20260422T141940
CREATED:20230601T165059Z
LAST-MODIFIED:20230726T113201Z
UID:6019-1697637600-1697652000@tescht2.skdv.ch
SUMMARY:Service Inside @ Dipl. Ing. Fust AG mit Fachvortrag und Betriebsbesichtigung
DESCRIPTION:Service Inside zu Besuch bei Dipl. Ing. Fust AG in Oberbüren				\n				\n				\n				\n									Service-Inside bietet Ihnen Einblicke in interessante Mitglieds-Unternehmen und deren Service-Strategien. Nebst spannenden Fachvorträgen und einer anschliessenden Betriebsbesichtigung\, haben Sie beim Apéro Gelegenheit\, Kontakte zu pflegen und Erfahrungen auszutauschen. 								\n				\n					\n		\n				\n			\n						\n				\n																\n															\n															\n				\n					\n		\n					\n		\n				\n						\n					\n			\n						\n				\n					Wer kennt die Dipl.-Ing. Fust AG nicht\, mit Ihrem Slogan «und es funktioniert».				\n				\n				\n				\n									Kommen Sie mit dem SKDV Service Inside auf eine spannende Reise. Erfahren Sie aus erster Hand was Customer Services im Umfeld von Elektrohaushaltsgeräten ohne Eigenmarke bedeutet und welche Herausforderungen das Team bewältigt\, damit es auch funktioniert. \nReservieren Sie sich schon heute den 18.10.2023 und lernen Sie mehr über das Unternehmen\, die Dipl. Ing. Fust AG\, den Service und ihre Kunden. \nWir freuen uns auf Ihre Teilnahme. 								\n				\n				\n				\n									Dipl. Ing. Fust\, eine Marke der Swiss Household Services AG mit Sitz in Oberbüren\, ist eine Schweizer Fachgeschäftskette für Elektrohaushaltsgeräte\, Unterhaltungselektronik und Computer. Darüber hinaus bietet Fust auch professionelle Geräte für die Gastronomie und die Betriebsverpflegung. 								\n				\n					\n		\n					\n		\n				\n						\n					\n			\n						\n				\n					Programm				\n				\n				\n				\n							\n			\n				\n			\n\n			\n								\n						\n\n				\n											\n							14:00 Uhr						\n						\n				\n\n				\n									\n					\n																									\n				\n								\n				\n													\n												\n														\n								\n									\n																					\n												14:00 Uhr											\n																				\n									Eintreffen der Besucher								\n							\n													\n										\n\n			\n								\n						\n\n				\n											\n							14:15 Uhr						\n						\n				\n\n				\n									\n					\n																									\n				\n								\n				\n													\n												\n														\n								\n									\n																					\n												14:15 Uhr											\n																				\n									Begrüssung durch den SKDVVorstellung Service Inside und Veranstalter ankündigen 								\n							\n													\n										\n\n			\n								\n						\n\n				\n											\n							14:30 Uhr						\n						\n				\n\n				\n									\n					\n																									\n				\n								\n				\n													\n												\n														\n								\n									\n																					\n												14:30 Uhr											\n																				\n									Präsentation durch Severino GiancolaLeiter Prozess Management 								\n							\n													\n										\n\n			\n								\n						\n\n				\n											\n							15:00 Uhr						\n						\n				\n\n				\n									\n					\n																									\n				\n								\n				\n													\n												\n														\n								\n									\n																					\n												15:00 Uhr											\n																				\n									Fragerunde								\n							\n													\n										\n\n			\n								\n						\n\n				\n											\n							15:30 Uhr						\n						\n				\n\n				\n									\n					\n																									\n				\n								\n				\n													\n												\n														\n								\n									\n																					\n												15:30 Uhr											\n																				\n									Betriebsbesichtigung / Rundgang und mehr								\n							\n													\n										\n\n			\n								\n						\n\n				\n											\n							17:00 Uhr						\n						\n				\n\n				\n									\n					\n																									\n				\n								\n				\n													\n												\n														\n								\n									\n																					\n												17:00 Uhr											\n																				\n									SKDV Informationen								\n							\n													\n										\n\n			\n								\n						\n\n				\n											\n							17:30 Uhr						\n						\n				\n\n				\n									\n					\n																									\n				\n								\n				\n													\n												\n														\n								\n									\n																					\n												17:30 Uhr											\n																				\n									Aperos und NetzwerkenDer Aperos wird in den Räumlichkeiten des Veranstalters durchgeführt 								\n							\n													\n										\n\n			\n								\n						\n\n				\n											\n							18:30 Uhr						\n						\n				\n\n				\n									\n					\n																									\n				\n								\n				\n													\n												\n														\n								\n									\n																					\n												18:30 Uhr											\n																				\n									Ende der VeranstaltungVerabschiedung der Delegation 								\n							\n													\n										\n\n			\n						\n\n						\n				\n					\n		\n					\n		\n				\n						\n					\n			\n						\n				\n																														\n				\n				\n				\n									Parkmöglichkeiten im Parkhaus der Dipl. Ing. Fust AG 								\n				\n					\n		\n					\n		\n				\n				\n							\n			\n		\n						\n				\n				\n						\n					\n			\n						\n				\n							\n			\n		\n						\n				\n				\n				\n									\n					\n						\n						\n							\n									Event-Übersicht
URL:https://tescht2.skdv.ch/event/service-inside-dipl-ing-fust-ag-mit-fachvortrag-und-betriebsbesichtigung/
LOCATION:Dipl. Ing. Fust AG\, Buchental 4\, Oberbüren
CATEGORIES:SKDV Service Inside
ATTACH;FMTTYPE=image/jpeg:https://tescht2.skdv.ch/wp-content/uploads/2023/06/Service-Inside-Fust.jpg
ORGANIZER;CN="SKDV":MAILTO:info@skdv.ch
END:VEVENT
END:VCALENDAR