BEGIN:VCALENDAR
VERSION:2.0
PRODID:-//SKDV - schweizer service verband - ECPv6.15.18//NONSGML v1.0//EN
CALSCALE:GREGORIAN
METHOD:PUBLISH
X-ORIGINAL-URL:https://tescht2.skdv.ch
X-WR-CALDESC:Veranstaltungen für SKDV - schweizer service verband
REFRESH-INTERVAL;VALUE=DURATION:PT1H
X-Robots-Tag:noindex
X-PUBLISHED-TTL:PT1H
BEGIN:VTIMEZONE
TZID:Europe/Zurich
BEGIN:DAYLIGHT
TZOFFSETFROM:+0100
TZOFFSETTO:+0200
TZNAME:CEST
DTSTART:20210328T010000
END:DAYLIGHT
BEGIN:STANDARD
TZOFFSETFROM:+0200
TZOFFSETTO:+0100
TZNAME:CET
DTSTART:20211031T010000
END:STANDARD
BEGIN:DAYLIGHT
TZOFFSETFROM:+0100
TZOFFSETTO:+0200
TZNAME:CEST
DTSTART:20220327T010000
END:DAYLIGHT
BEGIN:STANDARD
TZOFFSETFROM:+0200
TZOFFSETTO:+0100
TZNAME:CET
DTSTART:20221030T010000
END:STANDARD
BEGIN:DAYLIGHT
TZOFFSETFROM:+0100
TZOFFSETTO:+0200
TZNAME:CEST
DTSTART:20230326T010000
END:DAYLIGHT
BEGIN:STANDARD
TZOFFSETFROM:+0200
TZOFFSETTO:+0100
TZNAME:CET
DTSTART:20231029T010000
END:STANDARD
END:VTIMEZONE
BEGIN:VEVENT
DTSTART;TZID=Europe/Zurich:20221201T090000
DTEND;TZID=Europe/Zurich:20221201T130000
DTSTAMP:20260425T231218
CREATED:20221012T085303Z
LAST-MODIFIED:20221012T085551Z
UID:5312-1669885200-1669899600@tescht2.skdv.ch
SUMMARY:Workshop "Data Sharing Framework"
DESCRIPTION:Worum geht es im FuE-Projekt?				\n				\n				\n				\n									Wie kann die Daten-basierte Kooperations- und Teilbereitschaft unter KMU gefördert werden? Wie können KMU durch das Teilen von Daten mehr Nutzen für Produkte und Services generieren? 								\n				\n					\n		\n				\n			\n						\n				\n																\n															\n															\n				\n					\n		\n					\n		\n				\n						\n					\n			\n						\n				\n									Das Projekt entwickelt praxistaugliche und KMU-gerechte Tools in den folgenden 5 Dimensionen: • Recht: Data Governance-Modelle und Vertragstoolboxen • Datenbewertung: den Wert von Daten in Ökosystemen quantifizieren und transparent machen • Vertrauen: Handlungsempfehlungen / Instrumente zur Steigerung des Vertrauens in dasDatenteilen • Kultur: Instrumente zur Diagnose und Entwicklung einer Organisationskultur\, welche die Arbeit mit Daten ermöglicht und unterstützt • Sicherheit: Methoden zur Minimierung von IT-Sicherheitsrisiken bei Kooperation zwischen KMU 								\n				\n					\n		\n					\n		\n				\n						\n					\n			\n						\n				\n					ZIEL				\n				\n				\n				\n									Den KMU die neusten Methoden aus der angewandten Forschung in die Hand zu geben\, um das Teilen und die Nutzung von Daten mit den Partnern voranzutreiben.								\n				\n				\n				\n									Anmeldung per Email an juerg.meierhofer@zhaw.ch\, Platzzahl beschränkt 								\n				\n				\n				\n									\n					\n						\n						\n							\n									Flyer herunterladen\n					\n					\n				\n								\n				\n				\n				\n									\n					\n						\n						\n							\n									Website besuchen\n					\n					\n				\n								\n				\n					\n		\n					\n		\n				\n						\n					\n			\n						\n				\n									\n					\n						\n						\n							\n									Event-Übersicht
URL:https://tescht2.skdv.ch/event/workshop-data-sharing-framework/
LOCATION:OST – Ostschweizer Fachhochschule\, Rosenbergstrasse 59\, St. Gallen\, 9000
CATEGORIES:Fachtagung
ATTACH;FMTTYPE=image/jpeg:https://tescht2.skdv.ch/wp-content/uploads/2022/10/DSF.jpg
END:VEVENT
END:VCALENDAR