BEGIN:VCALENDAR
VERSION:2.0
PRODID:-//SKDV - schweizer service verband - ECPv6.15.18//NONSGML v1.0//EN
CALSCALE:GREGORIAN
METHOD:PUBLISH
X-ORIGINAL-URL:https://tescht2.skdv.ch
X-WR-CALDESC:Veranstaltungen für SKDV - schweizer service verband
REFRESH-INTERVAL;VALUE=DURATION:PT1H
X-Robots-Tag:noindex
X-PUBLISHED-TTL:PT1H
BEGIN:VTIMEZONE
TZID:Europe/Zurich
BEGIN:DAYLIGHT
TZOFFSETFROM:+0100
TZOFFSETTO:+0200
TZNAME:CEST
DTSTART:20210328T010000
END:DAYLIGHT
BEGIN:STANDARD
TZOFFSETFROM:+0200
TZOFFSETTO:+0100
TZNAME:CET
DTSTART:20211031T010000
END:STANDARD
BEGIN:DAYLIGHT
TZOFFSETFROM:+0100
TZOFFSETTO:+0200
TZNAME:CEST
DTSTART:20220327T010000
END:DAYLIGHT
BEGIN:STANDARD
TZOFFSETFROM:+0200
TZOFFSETTO:+0100
TZNAME:CET
DTSTART:20221030T010000
END:STANDARD
BEGIN:DAYLIGHT
TZOFFSETFROM:+0100
TZOFFSETTO:+0200
TZNAME:CEST
DTSTART:20230326T010000
END:DAYLIGHT
BEGIN:STANDARD
TZOFFSETFROM:+0200
TZOFFSETTO:+0100
TZNAME:CET
DTSTART:20231029T010000
END:STANDARD
END:VTIMEZONE
BEGIN:VEVENT
DTSTART;VALUE=DATE:20221117
DTEND;VALUE=DATE:20221118
DTSTAMP:20260423T232653
CREATED:20220929T092402Z
LAST-MODIFIED:20220929T092824Z
UID:5241-1668643200-1668729599@tescht2.skdv.ch
SUMMARY:SMFS - Service Management Forum Schweiz 2022
DESCRIPTION:Das erwartet Sie				\n				\n					\n		\n					\n		\n				\n						\n					\n			\n						\n				\n									In der heutigen schnelllebigen Welt ist es entscheidend\, immer einen Schritt voraus zu sein. Die Nutzung von Daten im produzierenden Umfeld liegt weit hinter ihrem Potenzial zurück. Es ist zwar bekannt\, dass mit Lösungen wie z.B. Predictive Maintenance Ausfallzeiten reduziert werden können\, was Business-Nutzen schaffen kann. Es liegt aber viel mehr drin. Durch eine Ausweitung der Perspektive auf den ganzen Kundenlebenszyklus erschliessen die Unternehmen zusätzliches Geschäftspotenzial und können – gezieltes Design vorausgesetzt – auch ökologische und soziale Wertschöpfung optimieren.   Am 25. – 26. Oktober finden 3 Messen in Zürich statt und wir sind dabei – und Deine Organisation? Bei jeweils 3 Vorträgen am Vormittag ist das zentrale Thema „Smart Data und Resilienz“. Dabei liegt der Schwerpunkt auf betrieblicher Robustheit und der effizienten Nutzung von Ressourcen\, was die Fähigkeiten erhöht\, auf die Schwankungen zu reagieren. 								\n				\n					\n		\n				\n			\n						\n				\n																\n															\n															\n				\n					\n		\n					\n		\n				\n						\n					\n			\n						\n				\n							\n			\n		\n						\n				\n				\n				\n					Mehr erfahren und Ticket sichern auf der maintenance Schweiz Webseite:				\n				\n				\n				\n									\n					\n						\n						\n							\n									Jetzt anmelden\n					\n					\n				\n								\n				\n				\n				\n							\n			\n		\n						\n				\n				\n				\n									\n					\n						\n						\n							\n									Event-Übersicht
URL:https://tescht2.skdv.ch/event/smfs-service-management-forum-schweiz-2022/
LOCATION:Radisson Blu Hotel\, Zurich Airport\, Zürich\, 8058
CATEGORIES:Fachtagung
ATTACH;FMTTYPE=image/png:https://tescht2.skdv.ch/wp-content/uploads/2021/04/SMFS_2021.png
END:VEVENT
END:VCALENDAR