BEGIN:VCALENDAR
VERSION:2.0
PRODID:-//SKDV - schweizer service verband - ECPv6.15.18//NONSGML v1.0//EN
CALSCALE:GREGORIAN
METHOD:PUBLISH
X-WR-CALNAME:SKDV - schweizer service verband
X-ORIGINAL-URL:https://tescht2.skdv.ch
X-WR-CALDESC:Veranstaltungen für SKDV - schweizer service verband
REFRESH-INTERVAL;VALUE=DURATION:PT1H
X-Robots-Tag:noindex
X-PUBLISHED-TTL:PT1H
BEGIN:VTIMEZONE
TZID:Europe/Zurich
BEGIN:DAYLIGHT
TZOFFSETFROM:+0100
TZOFFSETTO:+0200
TZNAME:CEST
DTSTART:20230326T010000
END:DAYLIGHT
BEGIN:STANDARD
TZOFFSETFROM:+0200
TZOFFSETTO:+0100
TZNAME:CET
DTSTART:20231029T010000
END:STANDARD
BEGIN:DAYLIGHT
TZOFFSETFROM:+0100
TZOFFSETTO:+0200
TZNAME:CEST
DTSTART:20240331T010000
END:DAYLIGHT
BEGIN:STANDARD
TZOFFSETFROM:+0200
TZOFFSETTO:+0100
TZNAME:CET
DTSTART:20241027T010000
END:STANDARD
BEGIN:DAYLIGHT
TZOFFSETFROM:+0100
TZOFFSETTO:+0200
TZNAME:CEST
DTSTART:20250330T010000
END:DAYLIGHT
BEGIN:STANDARD
TZOFFSETFROM:+0200
TZOFFSETTO:+0100
TZNAME:CET
DTSTART:20251026T010000
END:STANDARD
END:VTIMEZONE
BEGIN:VEVENT
DTSTART;TZID=Europe/Zurich:20240117T130000
DTEND;TZID=Europe/Zurich:20240117T200000
DTSTAMP:20260422T064245
CREATED:20231121T151938Z
LAST-MODIFIED:20231211T115509Z
UID:6298-1705496400-1705521600@tescht2.skdv.ch
SUMMARY:Service Träff 2024 & Service Inside @ Feldschlösschen AG mit Fachvortrag und Betriebsbesichtigung
DESCRIPTION:Service Inside zu Besuch bei der Feldschlösschen AG in Rheinfelden				\n				\n				\n				\n									Service-Inside bietet Ihnen Einblicke in interessante Mitglieds-Unternehmen und deren Service-Strategien. Nebst spannenden Fachvorträgen und einer anschliessenden Betriebsbesichtigung\, haben Sie beim Apéro Gelegenheit\, Kontakte zu pflegen und Erfahrungen auszutauschen. 								\n				\n					\n		\n				\n			\n						\n				\n																\n															\n															\n				\n					\n		\n					\n		\n				\n						\n					\n			\n						\n				\n					Fachvortrag «Vom Fass ins Glas» \nService in Gastronomie und Events 				\n				\n				\n				\n									Feldschlösschen Getränke AG ist die führende Bierbrauerei und der grösste Getränkehändler der Schweiz mit Hauptsitz in Rheinfelden im Kanton Aargau. Die Brauerei Feldschlösschen produziert die gleichnamige traditionsreiche Schweizer Biermarke. 								\n				\n				\n				\n									An vielen Restaurants\, Dorffesten\, Grossanlässen und Stadien sieht man das bekannte Logo der Feldschlösschen Getränke AG und ihrer Marken. Hinter jedem «kühlen Blonden» steht die Serviceabteilung von Feldschlösschen. Wenn Sie schon immer wissen wollten was hinter ihrer «Stange» steht\, reservieren Sie sich schon heute den 17.01.2024 und lernen Sie neben der Produkt- und Markenvielfalt von Feldschlösschen den Gastroservice kennen. Wir freuen uns auf Ihre Teilnahme. 								\n				\n					\n		\n					\n		\n				\n						\n					\n			\n						\n				\n					Programm				\n				\n				\n				\n							\n			\n				\n			\n\n			\n								\n						\n\n				\n											\n							13:00 Uhr						\n						\n				\n\n				\n									\n					\n																									\n				\n								\n				\n													\n												\n														\n								\n									\n																					\n												13:00 Uhr											\n																				\n									Eintreffen der BesucherFeldschlösschen Schlösslistube 								\n							\n													\n										\n\n			\n								\n						\n\n				\n											\n							13:15 Uhr						\n						\n				\n\n				\n									\n					\n																									\n				\n								\n				\n													\n												\n														\n								\n									\n																					\n												13:15 Uhr											\n																				\n									Begrüssung durch Präsidenten des SKDVVorstellung Tagesprogramm Ankündigung Service Inside und Veranstalter 								\n							\n													\n										\n\n			\n								\n						\n\n				\n											\n							13:30 Uhr						\n						\n				\n\n				\n									\n					\n																									\n				\n								\n				\n													\n												\n														\n								\n									\n																					\n												13:30 Uhr											\n																				\n									Präsentation durch Johannes «Jo» EwaldLeiter Technischer Kundendienst Deutschschweiz /JU /NE /FREinblick in die Service Organisation von Feldschlösschen 								\n							\n													\n										\n\n			\n								\n						\n\n				\n											\n							14:00 Uhr						\n						\n				\n\n				\n									\n					\n																									\n				\n								\n				\n													\n												\n														\n								\n									\n																					\n												14:00 Uhr											\n																				\n									Fragerunde								\n							\n													\n										\n\n			\n								\n						\n\n				\n											\n							14:15 Uhr						\n						\n				\n\n				\n									\n					\n																									\n				\n								\n				\n													\n												\n														\n								\n									\n																					\n												14:15 Uhr											\n																				\n									Betriebsbesichtigung / RundgangAbfüllungEvent-Service 								\n							\n													\n										\n\n			\n								\n						\n\n				\n											\n							15:30 Uhr						\n						\n				\n\n				\n									\n					\n																									\n				\n								\n				\n													\n												\n														\n								\n									\n																					\n												15:30 Uhr											\n																				\n									Service Träff SKDVBegrüssung durch Thomas Seiler Rückblick / Ausblick der Verbandsaktivitäten 2024 (Workshop) 								\n							\n													\n										\n\n			\n								\n						\n\n				\n											\n							16:30 Uhr						\n						\n				\n\n				\n									\n					\n																									\n				\n								\n				\n													\n												\n														\n								\n									\n																					\n												16:30 Uhr											\n																				\n									Apéro und NetzwerkenDer Apéro wird in der Schlösslistube durchgeführt 								\n							\n													\n										\n\n			\n								\n						\n\n				\n											\n							17:45 Uhr						\n						\n				\n\n				\n									\n					\n																									\n				\n								\n				\n													\n												\n														\n								\n									\n																					\n												17:45 Uhr											\n																				\n									Ende der VeranstaltungVerabschiedung der Delegation 								\n							\n													\n										\n\n			\n								\n						\n\n				\n											\n							18:00 Uhr						\n						\n				\n\n				\n									\n					\n																									\n				\n								\n				\n													\n												\n														\n								\n									\n																					\n												18:00 Uhr											\n																				\n									Gemeinsames Nachtessen (Optional)Feldschlösschen Restaurant Kostenpflichtig\, CHF 45.- / Person + Getränke 								\n							\n													\n										\n\n			\n						\n\n						\n				\n					\n		\n					\n		\n				\n						\n					\n			\n						\n				\n																														\n				\n					\n		\n					\n		\n				\n				\n							\n			\n		\n						\n				\n				\n						\n					\n			\n						\n				\n							\n			\n		\n						\n				\n				\n				\n									\n					\n						\n						\n							\n									Event-Übersicht
URL:https://tescht2.skdv.ch/event/service-inside-feldschloesschen-ag-mit-fachvortrag-und-betriebsbesichtigung/
LOCATION:Feldschlösschen AG\, Theophil Roniger-Strasse\, Rheinfelden\, AG\, 4310
CATEGORIES:SKDV Service Inside,SKDV Service Träff
ATTACH;FMTTYPE=image/jpeg:https://tescht2.skdv.ch/wp-content/uploads/2023/11/FS_Weihnachtsbier-Keyvisual_1600x1200px_mitLogo.jpg
ORGANIZER;CN="SKDV":MAILTO:info@skdv.ch
END:VEVENT
END:VCALENDAR