BEGIN:VCALENDAR
VERSION:2.0
PRODID:-//SKDV - schweizer service verband - ECPv6.15.18//NONSGML v1.0//EN
CALSCALE:GREGORIAN
METHOD:PUBLISH
X-WR-CALNAME:SKDV - schweizer service verband
X-ORIGINAL-URL:https://tescht2.skdv.ch
X-WR-CALDESC:Veranstaltungen für SKDV - schweizer service verband
REFRESH-INTERVAL;VALUE=DURATION:PT1H
X-Robots-Tag:noindex
X-PUBLISHED-TTL:PT1H
BEGIN:VTIMEZONE
TZID:Europe/Zurich
BEGIN:DAYLIGHT
TZOFFSETFROM:+0100
TZOFFSETTO:+0200
TZNAME:CEST
DTSTART:20230326T010000
END:DAYLIGHT
BEGIN:STANDARD
TZOFFSETFROM:+0200
TZOFFSETTO:+0100
TZNAME:CET
DTSTART:20231029T010000
END:STANDARD
BEGIN:DAYLIGHT
TZOFFSETFROM:+0100
TZOFFSETTO:+0200
TZNAME:CEST
DTSTART:20240331T010000
END:DAYLIGHT
BEGIN:STANDARD
TZOFFSETFROM:+0200
TZOFFSETTO:+0100
TZNAME:CET
DTSTART:20241027T010000
END:STANDARD
BEGIN:DAYLIGHT
TZOFFSETFROM:+0100
TZOFFSETTO:+0200
TZNAME:CEST
DTSTART:20250330T010000
END:DAYLIGHT
BEGIN:STANDARD
TZOFFSETFROM:+0200
TZOFFSETTO:+0100
TZNAME:CET
DTSTART:20251026T010000
END:STANDARD
END:VTIMEZONE
BEGIN:VEVENT
DTSTART;TZID=Europe/Zurich:20241128T100000
DTEND;TZID=Europe/Zurich:20241128T120000
DTSTAMP:20260421T042907
CREATED:20241114T114657Z
LAST-MODIFIED:20250301T121902Z
UID:7005-1732788000-1732795200@tescht2.skdv.ch
SUMMARY:Online-Workshop zum EU Data Act
DESCRIPTION:Das erwartet Sie				\n				\n				\n				\n									Sind Ihnen die Auswirkungen des Data Act\, wie das Recht auf Datenzugang und -weitergabe\, die verpflichtenden Datenlizenzen und das übergeordnete Ziel\, neue\, innovative Geschäftsmodelle zu fördern\, noch nicht bekannt? 								\n				\n					\n		\n					\n		\n				\n						\n					\n			\n						\n				\n									Dann bietet unser Workshop die ideale Gelegenheit\, sich mit den Chancen und Herausforderungen des EU Data Act vertraut zu machen\, denn mit seinen Regelungen zum Datenzugang und zur Datenweitergabe eröffnet er Unternehmen nicht nur neue Möglichkeiten\, sondern bringt auch komplexe rechtliche Verpflichtungen mit sich\, die es zu meistern gilt. Agenda:1. Einführung in den EU Data Act (10:00 – 11:00 Uhr) – Überblick über Inhalte und Auswirkungen des Gesetzes mit praxisnahen Fallbeispielen. 2. Offene Diskussion (ab 11:00 Uhr) – Gemeinsame Erörterung erster Ansätze zur Implementierung des Data Act in Ihrem Unternehmen. 								\n				\n					\n		\n				\n			\n						\n				\n																\n															\n															\n				\n					\n		\n					\n		\n				\n						\n					\n			\n						\n				\n							\n			\n		\n						\n				\n				\n				\n									\n					\n						\n						\n							\n									Jetzt anmelden\n					\n					\n				\n								\n				\n				\n				\n							\n			\n		\n						\n				\n				\n				\n									\n					\n						\n						\n							\n									Event-Übersicht
URL:https://tescht2.skdv.ch/event/online-workshop-zum-eu-data-act/
LOCATION:ONLINE
CATEGORIES:Online-Event
ATTACH;FMTTYPE=image/jpeg:https://tescht2.skdv.ch/wp-content/uploads/2024/11/Data_Act_Pioneer_2024.jpg
END:VEVENT
END:VCALENDAR