BEGIN:VCALENDAR
VERSION:2.0
PRODID:-//SKDV - schweizer service verband - ECPv6.15.18//NONSGML v1.0//EN
CALSCALE:GREGORIAN
METHOD:PUBLISH
X-WR-CALNAME:SKDV - schweizer service verband
X-ORIGINAL-URL:https://tescht2.skdv.ch
X-WR-CALDESC:Veranstaltungen für SKDV - schweizer service verband
REFRESH-INTERVAL;VALUE=DURATION:PT1H
X-Robots-Tag:noindex
X-PUBLISHED-TTL:PT1H
BEGIN:VTIMEZONE
TZID:Europe/Zurich
BEGIN:DAYLIGHT
TZOFFSETFROM:+0100
TZOFFSETTO:+0200
TZNAME:CEST
DTSTART:20220327T010000
END:DAYLIGHT
BEGIN:STANDARD
TZOFFSETFROM:+0200
TZOFFSETTO:+0100
TZNAME:CET
DTSTART:20221030T010000
END:STANDARD
BEGIN:DAYLIGHT
TZOFFSETFROM:+0100
TZOFFSETTO:+0200
TZNAME:CEST
DTSTART:20230326T010000
END:DAYLIGHT
BEGIN:STANDARD
TZOFFSETFROM:+0200
TZOFFSETTO:+0100
TZNAME:CET
DTSTART:20231029T010000
END:STANDARD
BEGIN:DAYLIGHT
TZOFFSETFROM:+0100
TZOFFSETTO:+0200
TZNAME:CEST
DTSTART:20240331T010000
END:DAYLIGHT
BEGIN:STANDARD
TZOFFSETFROM:+0200
TZOFFSETTO:+0100
TZNAME:CET
DTSTART:20241027T010000
END:STANDARD
END:VTIMEZONE
BEGIN:VEVENT
DTSTART;TZID=Europe/Zurich:20230531T083000
DTEND;TZID=Europe/Zurich:20230531T173000
DTSTAMP:20260424T164933
CREATED:20230320T020947Z
LAST-MODIFIED:20230320T130017Z
UID:5787-1685521800-1685554200@tescht2.skdv.ch
SUMMARY:6. Konferenz Perspektiven mit Industrie 4.0: Digitale Ökosysteme
DESCRIPTION:Eventbeschreibung				\n				\n					\n		\n					\n		\n				\n						\n					\n			\n						\n				\n									\nIndustrie 4.0 ermöglicht es Unternehmen\, ihre Prozesse transparenter zu gestalten und die Integration von internen und externen Partnern neu zu gestalten. Je nach Grad der Partnerintegration können sogar ganze Ökosysteme\, bestehend aus Lieferanten\, Kunden\, Konkurrenten und Substitutionsunternehmen\, etabliert werden. \nDie Konferenz Perspektiven mit Industrie 4.0 bietet einen Einblick in unterschiedliche Möglichkeiten der Ökosystemgestaltung. Die Inhalte der Konferenz umfassen unterschiedlichen Lösungsansätze (“best practices” aus Unternehmen) zu folgenden Fragen: \n\nWie kann die Transparenz in Supply Chains dank Industrie 4.0 erhöht werden (traceability)?\nWie können dank Industrie 4.0 neue Geschäftsmodelle mit stärkerer Kundenintegration gestaltet werden?\nWie können ganze Partnernetzwerke in Ökosysteme überführt und somit neuartige Ressourcen und Kompetenzen erschlossen werden?\n\nAn der Konferenz Perspektiven mit Industrie 4.0 werden Lösungen von und für Schweizer KMU präsentiert\, die pionierhaft und mustergültig sind. Wir laden Sie ein\, sich davon inspirieren zu lassen und freuen uns über Ihre Teilnahme. \n								\n				\n				\n				\n									ZielgruppePersonen mit leitenden Funktionen sowie Fachspezialistinnen und Fachspezialisten aus Industrie- und (technischen) Dienstleistungssektoren. 								\n				\n					\n		\n				\n			\n						\n				\n																\n															\n															\n				\n				\n				\n					        \n\n            \n            	    \n                \n\n                                                                \n                    Webseite besuchen\n\n                                    \n	                        \n        \n        				\n				\n				\n				\n					        \n\n            \n            	    \n                \n\n                                                                \n                    Ticket reservieren\n\n                                    \n	                        \n        \n        				\n				\n				\n				\n							\n			\n		\n						\n				\n				\n				\n									Dank der Partnerschaft zwischen SKDV und der data innovation alliance können Mitglieder des SKDV zu vergünstigten Konditionen teilnehmen (80.- Rabatt).								\n				\n				\n				\n									\n					\n						\n									Rabattcode beantragen\n					\n					\n				\n								\n				\n					\n		\n					\n		\n				\n						\n					\n			\n						\n				\n							\n			\n		\n						\n				\n				\n				\n									\n					\n						\n						\n							\n									Event-Übersicht
URL:https://tescht2.skdv.ch/event/6-konferenz-perspektiven-mit-industrie-4-0-digitale-oekosysteme/
LOCATION:ZHAW Winterthur\, St.-Georgen-Platz 2\, Winterthur\, 8401\, Schweiz
CATEGORIES:Fachtagung
ATTACH;FMTTYPE=image/png:https://tescht2.skdv.ch/wp-content/uploads/2023/03/6.Konferenz-Perspektiven-Industrie-4.0.png
END:VEVENT
END:VCALENDAR