BEGIN:VCALENDAR
VERSION:2.0
PRODID:-//SKDV - schweizer service verband - ECPv6.15.18//NONSGML v1.0//EN
CALSCALE:GREGORIAN
METHOD:PUBLISH
X-ORIGINAL-URL:https://tescht2.skdv.ch
X-WR-CALDESC:Veranstaltungen für SKDV - schweizer service verband
REFRESH-INTERVAL;VALUE=DURATION:PT1H
X-Robots-Tag:noindex
X-PUBLISHED-TTL:PT1H
BEGIN:VTIMEZONE
TZID:Europe/Zurich
BEGIN:DAYLIGHT
TZOFFSETFROM:+0100
TZOFFSETTO:+0200
TZNAME:CEST
DTSTART:20230326T010000
END:DAYLIGHT
BEGIN:STANDARD
TZOFFSETFROM:+0200
TZOFFSETTO:+0100
TZNAME:CET
DTSTART:20231029T010000
END:STANDARD
BEGIN:DAYLIGHT
TZOFFSETFROM:+0100
TZOFFSETTO:+0200
TZNAME:CEST
DTSTART:20240331T010000
END:DAYLIGHT
BEGIN:STANDARD
TZOFFSETFROM:+0200
TZOFFSETTO:+0100
TZNAME:CET
DTSTART:20241027T010000
END:STANDARD
BEGIN:DAYLIGHT
TZOFFSETFROM:+0100
TZOFFSETTO:+0200
TZNAME:CEST
DTSTART:20250330T010000
END:DAYLIGHT
BEGIN:STANDARD
TZOFFSETFROM:+0200
TZOFFSETTO:+0100
TZNAME:CET
DTSTART:20251026T010000
END:STANDARD
END:VTIMEZONE
BEGIN:VEVENT
DTSTART;VALUE=DATE:20240530
DTEND;VALUE=DATE:20240601
DTSTAMP:20260421T144312
CREATED:20240312T221813Z
LAST-MODIFIED:20240312T222242Z
UID:6475-1717027200-1717199999@tescht2.skdv.ch
SUMMARY:SDS2024 - 11th IEEE Swiss Conference on Data Science
DESCRIPTION:Service Lunch: “Eating\, Learning\, Netzworking” – Digital Plan Revision Service at Siresca – From the Construction Site Directly into CAD				\n				\n				\n				\n									Anhand des Planrevisionsprozesses wird gezeigt\, wie Siresca digitale Dienste nutzt\, um die Datenqualität sicherzustellen\, die Zusammenarbeit zu vereinfachen und den gesamten Workflow von der Ausführung bis zur Planung vollständig zu digitalisieren. Referent: Julien Reutimann\, CEO\, Siresca AG 								\n				\n					\n		\n					\n		\n				\n						\n					\n			\n						\n				\n					Weitere Informationen & Anmeldung				\n				\n				\n				\n									\n					\n						\n									Event Webseite\n					\n					\n				\n								\n				\n				\n				\n							\n			\n		\n						\n				\n					\n		\n					\n		\n				\n				\n							\n			\n		\n						\n				\n				\n						\n					\n			\n						\n				\n							\n			\n		\n						\n				\n				\n				\n									\n					\n						\n						\n							\n									Event-Übersicht
URL:https://tescht2.skdv.ch/event/sds2024-11th-ieee-swiss-conference-on-data-science/
LOCATION:The Circle Convention Center\, Zurich Airport\, Flughafen\, Zürich\, 8058
CATEGORIES:Fachtagung
ATTACH;FMTTYPE=image/jpeg:https://tescht2.skdv.ch/wp-content/uploads/2024/03/SDS2024.jpg
ORGANIZER;CN="data innovation alliance":MAILTO:info.office@data-innovation.org
END:VEVENT
END:VCALENDAR