BEGIN:VCALENDAR
VERSION:2.0
PRODID:-//SKDV - schweizer service verband - ECPv6.15.18//NONSGML v1.0//EN
CALSCALE:GREGORIAN
METHOD:PUBLISH
X-ORIGINAL-URL:https://tescht2.skdv.ch
X-WR-CALDESC:Veranstaltungen für SKDV - schweizer service verband
REFRESH-INTERVAL;VALUE=DURATION:PT1H
X-Robots-Tag:noindex
X-PUBLISHED-TTL:PT1H
BEGIN:VTIMEZONE
TZID:Europe/Zurich
BEGIN:DAYLIGHT
TZOFFSETFROM:+0100
TZOFFSETTO:+0200
TZNAME:CEST
DTSTART:20230326T010000
END:DAYLIGHT
BEGIN:STANDARD
TZOFFSETFROM:+0200
TZOFFSETTO:+0100
TZNAME:CET
DTSTART:20231029T010000
END:STANDARD
BEGIN:DAYLIGHT
TZOFFSETFROM:+0100
TZOFFSETTO:+0200
TZNAME:CEST
DTSTART:20240331T010000
END:DAYLIGHT
BEGIN:STANDARD
TZOFFSETFROM:+0200
TZOFFSETTO:+0100
TZNAME:CET
DTSTART:20241027T010000
END:STANDARD
BEGIN:DAYLIGHT
TZOFFSETFROM:+0100
TZOFFSETTO:+0200
TZNAME:CEST
DTSTART:20250330T010000
END:DAYLIGHT
BEGIN:STANDARD
TZOFFSETFROM:+0200
TZOFFSETTO:+0100
TZNAME:CET
DTSTART:20251026T010000
END:STANDARD
END:VTIMEZONE
BEGIN:VEVENT
DTSTART;TZID=Europe/Zurich:20240529T083000
DTEND;TZID=Europe/Zurich:20240529T173000
DTSTAMP:20260421T230400
CREATED:20240312T230514Z
LAST-MODIFIED:20240404T094333Z
UID:6483-1716971400-1717003800@tescht2.skdv.ch
SUMMARY:7. Konferenz Perspektiven mit Industrie 4.0: Cyber Security
DESCRIPTION:Eventbeschreibung				\n				\n					\n		\n					\n		\n				\n						\n					\n			\n						\n				\n									Cyber Security im Zeitalter von Industrie 4.0: Lernen aus Erfahrungen In einer Welt\, die sich immer stärker vernetzt\, sehen sich Unternehmen zunehmend wachsenden Cyber-Bedrohungen gegenüber. Während die Integration von technologischen Möglichkeiten in die Geschäftsprozesse Perspektiven für neue Geschäftsmodelle eröffnet\, sehen sich die Firmen auch vermehrt Gefahren wie Datendiebstahl\, fehlenden Sicherheitsmassnahmen und Sicherheitslücken oder gar persönlichen Cyber-Angriffen auf Mitarbeitende gegenüber. Es ist daher von zentraler Bedeutung\, dass Unternehmen die notwendigen Massnahmen ergreifen\, um sich in dieser digitalen Landschaft sicher zu bewegen. Wir laden Sie herzlich ein\, Ihre Erfahrungen mit uns zu teilen\, von anderen zu lernen und gemeinsam Lösungen für eine sicherere und erfolgreichere digitale Zukunft zu entwickeln. Wir freuen uns auf Ihre Teilnahme! 								\n				\n				\n				\n									ZielgruppePersonen mit leitenden Funktionen sowie Fachspezialistinnen und Fachspezialisten aus Industrie- und (technischen) Dienstleistungssektoren. 								\n				\n					\n		\n				\n			\n						\n				\n																\n															\n															\n				\n				\n				\n					        \n\n            \n            	    \n                \n\n                                                                \n                    Webseite besuchen\n\n                                    \n	                        \n        \n        				\n				\n				\n				\n					        \n\n            \n            	    \n                \n\n                                                                \n                    Ticket reservieren\n\n                                    \n	                        \n        \n        				\n				\n				\n				\n							\n			\n		\n						\n				\n				\n				\n									Dank der Partnerschaft zwischen SKDV und der data innovation alliance können Mitglieder des SKDV zu vergünstigten Konditionen teilnehmen (80.- Rabatt).								\n				\n				\n				\n									\n					\n						\n									Rabattcode beantragen\n					\n					\n				\n								\n				\n					\n		\n					\n		\n				\n						\n					\n			\n						\n				\n							\n			\n		\n						\n				\n				\n				\n									\n					\n						\n						\n							\n									Event-Übersicht
URL:https://tescht2.skdv.ch/event/7-konferenz-perspektiven-mit-industrie-4-0-cyber-security/
LOCATION:ZHAW Winterthur\, St.-Georgen-Platz 2\, Winterthur\, 8401\, Schweiz
CATEGORIES:Fachtagung
ATTACH;FMTTYPE=image/jpeg:https://tescht2.skdv.ch/wp-content/uploads/2024/03/logo_cyber_security_i40_v3.jpg
END:VEVENT
END:VCALENDAR