BEGIN:VCALENDAR
VERSION:2.0
PRODID:-//SKDV - schweizer service verband - ECPv6.15.18//NONSGML v1.0//EN
CALSCALE:GREGORIAN
METHOD:PUBLISH
X-WR-CALNAME:SKDV - schweizer service verband
X-ORIGINAL-URL:https://tescht2.skdv.ch
X-WR-CALDESC:Veranstaltungen für SKDV - schweizer service verband
REFRESH-INTERVAL;VALUE=DURATION:PT1H
X-Robots-Tag:noindex
X-PUBLISHED-TTL:PT1H
BEGIN:VTIMEZONE
TZID:Europe/Zurich
BEGIN:DAYLIGHT
TZOFFSETFROM:+0100
TZOFFSETTO:+0200
TZNAME:CEST
DTSTART:20210328T010000
END:DAYLIGHT
BEGIN:STANDARD
TZOFFSETFROM:+0200
TZOFFSETTO:+0100
TZNAME:CET
DTSTART:20211031T010000
END:STANDARD
BEGIN:DAYLIGHT
TZOFFSETFROM:+0100
TZOFFSETTO:+0200
TZNAME:CEST
DTSTART:20220327T010000
END:DAYLIGHT
BEGIN:STANDARD
TZOFFSETFROM:+0200
TZOFFSETTO:+0100
TZNAME:CET
DTSTART:20221030T010000
END:STANDARD
BEGIN:DAYLIGHT
TZOFFSETFROM:+0100
TZOFFSETTO:+0200
TZNAME:CEST
DTSTART:20230326T010000
END:DAYLIGHT
BEGIN:STANDARD
TZOFFSETFROM:+0200
TZOFFSETTO:+0100
TZNAME:CET
DTSTART:20231029T010000
END:STANDARD
END:VTIMEZONE
BEGIN:VEVENT
DTSTART;TZID=Europe/Zurich:20220602T080000
DTEND;TZID=Europe/Zurich:20220602T170000
DTSTAMP:20260424T125527
CREATED:20220414T103622Z
LAST-MODIFIED:20220414T105051Z
UID:4683-1654156800-1654189200@tescht2.skdv.ch
SUMMARY:Service Excellence Day 2022
DESCRIPTION:Eventbeschreibung				\n				\n					\n		\n					\n		\n				\n						\n					\n			\n						\n				\n									Cyber Security im Zeitalter von Industrie 4.0: Lernen aus Erfahrungen In einer Welt\, die sich immer stärker vernetzt\, sehen sich Unternehmen zunehmend wachsenden Cyber-Bedrohungen gegenüber. Während die Integration von technologischen Möglichkeiten in die Geschäftsprozesse Perspektiven für neue Geschäftsmodelle eröffnet\, sehen sich die Firmen auch vermehrt Gefahren wie Datendiebstahl\, fehlenden Sicherheitsmassnahmen und Sicherheitslücken oder gar persönlichen Cyber-Angriffen auf Mitarbeitende gegenüber. Es ist daher von zentraler Bedeutung\, dass Unternehmen die notwendigen Massnahmen ergreifen\, um sich in dieser digitalen Landschaft sicher zu bewegen. Wir laden Sie herzlich ein\, Ihre Erfahrungen mit uns zu teilen\, von anderen zu lernen und gemeinsam Lösungen für eine sicherere und erfolgreichere digitale Zukunft zu entwickeln. Wir freuen uns auf Ihre Teilnahme! 								\n				\n				\n				\n									ZielgruppePersonen mit leitenden Funktionen sowie Fachspezialistinnen und Fachspezialisten aus Industrie- und (technischen) Dienstleistungssektoren. 								\n				\n					\n		\n				\n			\n						\n				\n																\n															\n															\n				\n				\n				\n					        \n\n            \n            	    \n                \n\n                                                                \n                    Webseite besuchen\n\n                                    \n	                        \n        \n        				\n				\n				\n				\n					        \n\n            \n            	    \n                \n\n                                                                \n                    Ticket reservieren\n\n                                    \n	                        \n        \n        				\n				\n				\n				\n							\n			\n		\n						\n				\n				\n				\n									Dank der Partnerschaft zwischen SKDV und der data innovation alliance können Mitglieder des SKDV zu vergünstigten Konditionen teilnehmen (80.- Rabatt).								\n				\n				\n				\n									\n					\n						\n									Rabattcode beantragen\n					\n					\n				\n								\n				\n					\n		\n					\n		\n				\n						\n					\n			\n						\n				\n							\n			\n		\n						\n				\n				\n				\n									\n					\n						\n						\n							\n									Event-Übersicht
URL:https://tescht2.skdv.ch/event/service-excellence-day-2022/
LOCATION:Innovision Center\, Paul-Engel-Straße 1\, Weiherhammer\, 92729\, Deutschland
CATEGORIES:Fachtagung,Hybrid-Veranstaltung
ATTACH;FMTTYPE=image/jpeg:https://tescht2.skdv.ch/wp-content/uploads/2022/04/Service_Excellence_Day_2022_Header.jpg
ORGANIZER;CN="Samhammer AG":MAILTO:info@samhammer.de
END:VEVENT
END:VCALENDAR