BEGIN:VCALENDAR
VERSION:2.0
PRODID:-//SKDV - schweizer service verband - ECPv6.15.18//NONSGML v1.0//EN
CALSCALE:GREGORIAN
METHOD:PUBLISH
X-WR-CALNAME:SKDV - schweizer service verband
X-ORIGINAL-URL:https://tescht2.skdv.ch
X-WR-CALDESC:Veranstaltungen für SKDV - schweizer service verband
REFRESH-INTERVAL;VALUE=DURATION:PT1H
X-Robots-Tag:noindex
X-PUBLISHED-TTL:PT1H
BEGIN:VTIMEZONE
TZID:Europe/Zurich
BEGIN:DAYLIGHT
TZOFFSETFROM:+0100
TZOFFSETTO:+0200
TZNAME:CEST
DTSTART:20230326T010000
END:DAYLIGHT
BEGIN:STANDARD
TZOFFSETFROM:+0200
TZOFFSETTO:+0100
TZNAME:CET
DTSTART:20231029T010000
END:STANDARD
BEGIN:DAYLIGHT
TZOFFSETFROM:+0100
TZOFFSETTO:+0200
TZNAME:CEST
DTSTART:20240331T010000
END:DAYLIGHT
BEGIN:STANDARD
TZOFFSETFROM:+0200
TZOFFSETTO:+0100
TZNAME:CET
DTSTART:20241027T010000
END:STANDARD
BEGIN:DAYLIGHT
TZOFFSETFROM:+0100
TZOFFSETTO:+0200
TZNAME:CEST
DTSTART:20250330T010000
END:DAYLIGHT
BEGIN:STANDARD
TZOFFSETFROM:+0200
TZOFFSETTO:+0100
TZNAME:CET
DTSTART:20251026T010000
END:STANDARD
END:VTIMEZONE
BEGIN:VEVENT
DTSTART;VALUE=DATE:20241106
DTEND;VALUE=DATE:20241108
DTSTAMP:20260420T234027
CREATED:20240910T093116Z
LAST-MODIFIED:20250301T121833Z
UID:6911-1730851200-1731023999@tescht2.skdv.ch
SUMMARY:KVD Service Congress 2024
DESCRIPTION:CX Fachanlass				\n				\n				\n				\n					Wie das Zusammenspiel von Five9\, ServiceNow mit KI das Kundenerlebnis verbessert				\n				\n				\n		\n				\n				\n																\n															\n															\n				\n				\n				\n		\n				\n				\n									Die neue CX startet hier! Erfahren Sie am T&N Fachanlass\, wie Sie mit der Verbindung von CRM- und Contact Center Plattformen ein durchgängiges Kundenerlebnis über verschiedene Kanäle schaffen.  Five9 und ServiceNow\, zwei der Branchenführer auf ihrem Gebiet\, sprechen über integrierte End-to-End-Prozesse im Kundenservice und wie Unternehmen damit ihre Workflows verbessern. Lassen Sie sich inspirieren\, wie Sie durch KI- und Cloud-Technologien den Kundenservice auf ein neues Level heben können.   Bereichert wird der Anlass durch ein Impulsreferat des Kundenbeziehungsexperten Glenn Oberholzer von der Stimmt AG\, der die Resultate und Erkenntnisse der grössten Customer Experience Studie der Schweiz präsentiert. Freuen Sie sich auf spannende Einblicke\, eine Demo und die Möglichkeit zum Networking mit Experten! Für Führungskräfte und Fachverantwortliche aus Kundendienst\, Contact Center\, Vertrieb oder anderen Fachbereichen mit täglichem Kundenkontakt.   								\n				\n		\n				\n				\n					        \n\n            \n            	    \n                \n\n                                                                \n                    Info & Anmeldung
URL:https://tescht2.skdv.ch/event/kvd-service-congress-2024/
LOCATION:Grand Hall ZOLLVEREIN®\, Kokereiallee 9\, Essen\, 45141\, Deutschland
CATEGORIES:Fachmesse,Fachtagung
ATTACH;FMTTYPE=image/jpeg:https://tescht2.skdv.ch/wp-content/uploads/2024/09/KVD_Service_Congress_2024.jpg
END:VEVENT
END:VCALENDAR