BEGIN:VCALENDAR
VERSION:2.0
PRODID:-//SKDV - schweizer service verband - ECPv6.15.18//NONSGML v1.0//EN
CALSCALE:GREGORIAN
METHOD:PUBLISH
X-WR-CALNAME:SKDV - schweizer service verband
X-ORIGINAL-URL:https://tescht2.skdv.ch
X-WR-CALDESC:Veranstaltungen für SKDV - schweizer service verband
REFRESH-INTERVAL;VALUE=DURATION:PT1H
X-Robots-Tag:noindex
X-PUBLISHED-TTL:PT1H
BEGIN:VTIMEZONE
TZID:Europe/Zurich
BEGIN:DAYLIGHT
TZOFFSETFROM:+0100
TZOFFSETTO:+0200
TZNAME:CEST
DTSTART:20210328T010000
END:DAYLIGHT
BEGIN:STANDARD
TZOFFSETFROM:+0200
TZOFFSETTO:+0100
TZNAME:CET
DTSTART:20211031T010000
END:STANDARD
BEGIN:DAYLIGHT
TZOFFSETFROM:+0100
TZOFFSETTO:+0200
TZNAME:CEST
DTSTART:20220327T010000
END:DAYLIGHT
BEGIN:STANDARD
TZOFFSETFROM:+0200
TZOFFSETTO:+0100
TZNAME:CET
DTSTART:20221030T010000
END:STANDARD
BEGIN:DAYLIGHT
TZOFFSETFROM:+0100
TZOFFSETTO:+0200
TZNAME:CEST
DTSTART:20230326T010000
END:DAYLIGHT
BEGIN:STANDARD
TZOFFSETFROM:+0200
TZOFFSETTO:+0100
TZNAME:CET
DTSTART:20231029T010000
END:STANDARD
END:VTIMEZONE
BEGIN:VEVENT
DTSTART;TZID=Europe/Zurich:20221027T160000
DTEND;TZID=Europe/Zurich:20221027T190000
DTSTAMP:20260424T101633
CREATED:20220908T100248Z
LAST-MODIFIED:20221017T204013Z
UID:5075-1666886400-1666897200@tescht2.skdv.ch
SUMMARY:Führung und Transformation im Servicecenter
DESCRIPTION:Führung und Transformation im Servicecenter 				\n				\n					\n		\n					\n		\n				\n						\n					\n			\n						\n				\n									callnet.ch freut sich\, Sie zur Veranstaltung «Führung und Transformation im Servicecenter» einzuladen. Es erwarten Sie drei hochkarätige Impulsreferate zu den Themen Führung\, Transformation und Digitalisierung. 								\n				\n					\n		\n				\n			\n						\n				\n																\n															\n															\n				\n					\n		\n					\n		\n				\n						\n					\n			\n						\n				\n					Programm				\n				\n				\n				\n									Impulsreferat Führung: Prof. Dr. Heike Bruch\, Professorin für Leadership\, Universität St. Gallen\, zu «New Leadership. Zwischen Inspiration und Überhitzung» Impulsreferat Transformation: Raphael Raetzo\, Bereichsleiter Raiffeisen Support Center\, zu «Vom Cost zum Value Center bei Raiffeisen» Impulsreferat Digitalisierung: Jörn Skerswetat\, Automationsexperte für Service Center\, zu «Durch Self-Service und Automation positive Kundenerlebnisse schaffen» 								\n				\n				\n				\n																														\n				\n				\n				\n							\n			\n		\n						\n				\n				\n				\n									\n					\n						\n									Jetzt anmelden!\n					\n					\n				\n								\n				\n				\n				\n									Ticketpreis: CHF 50.-								\n				\n				\n				\n									Für SKDV Mitglieder ist die Teilnahme kostenlos!								\n				\n				\n				\n									Bitte kontaktieren Sie uns vor der Anmeldung:								\n				\n				\n				\n									\n					\n						\n									Kontaktformular\n					\n					\n				\n								\n				\n				\n				\n							\n			\n		\n						\n				\n				\n				\n									\n					\n						\n						\n							\n									Event-Übersicht
URL:https://tescht2.skdv.ch/event/fuehrung-und-transformation-im-servicecenter/
LOCATION:Switzerland Innovation Park Ost\, Lerchenfeldstrasse 3\, St.Gallen\, 9014
CATEGORIES:Fachtagung
ATTACH;FMTTYPE=image/jpeg:https://tescht2.skdv.ch/wp-content/uploads/2022/09/Callnet-Fuehrung-und-Transformation-im-Servicecenter.jpg
END:VEVENT
END:VCALENDAR