BEGIN:VCALENDAR
VERSION:2.0
PRODID:-//SKDV - schweizer service verband - ECPv6.15.18//NONSGML v1.0//EN
CALSCALE:GREGORIAN
METHOD:PUBLISH
X-ORIGINAL-URL:https://tescht2.skdv.ch
X-WR-CALDESC:Veranstaltungen für SKDV - schweizer service verband
REFRESH-INTERVAL;VALUE=DURATION:PT1H
X-Robots-Tag:noindex
X-PUBLISHED-TTL:PT1H
BEGIN:VTIMEZONE
TZID:Europe/Zurich
BEGIN:DAYLIGHT
TZOFFSETFROM:+0100
TZOFFSETTO:+0200
TZNAME:CEST
DTSTART:20230326T010000
END:DAYLIGHT
BEGIN:STANDARD
TZOFFSETFROM:+0200
TZOFFSETTO:+0100
TZNAME:CET
DTSTART:20231029T010000
END:STANDARD
BEGIN:DAYLIGHT
TZOFFSETFROM:+0100
TZOFFSETTO:+0200
TZNAME:CEST
DTSTART:20240331T010000
END:DAYLIGHT
BEGIN:STANDARD
TZOFFSETFROM:+0200
TZOFFSETTO:+0100
TZNAME:CET
DTSTART:20241027T010000
END:STANDARD
BEGIN:DAYLIGHT
TZOFFSETFROM:+0100
TZOFFSETTO:+0200
TZNAME:CEST
DTSTART:20250330T010000
END:DAYLIGHT
BEGIN:STANDARD
TZOFFSETFROM:+0200
TZOFFSETTO:+0100
TZNAME:CET
DTSTART:20251026T010000
END:STANDARD
END:VTIMEZONE
BEGIN:VEVENT
DTSTART;TZID=Europe/Zurich:20241017T140000
DTEND;TZID=Europe/Zurich:20241017T180000
DTSTAMP:20260421T051605
CREATED:20240625T150024Z
LAST-MODIFIED:20240909T121404Z
UID:6759-1729173600-1729188000@tescht2.skdv.ch
SUMMARY:Service Inside @ Biral AG mit Fachvortrag und Betriebsbesichtigung
DESCRIPTION:Service Inside zu Besuch bei der Biral AG in Münsingen BE				\n				\n				\n				\n									Service-Inside bietet Ihnen Einblicke in interessante Mitglieds-Unternehmen und deren Service-Strategien. Nebst spannenden Fachvorträgen und einer anschliessenden Betriebsbesichtigung\, haben Sie beim Apéro Gelegenheit\, Kontakte zu pflegen und Erfahrungen auszutauschen. 								\n				\n					\n		\n				\n			\n						\n				\n																\n															\n															\n				\n					\n		\n					\n		\n				\n						\n					\n			\n						\n				\n					Seit 1919 beste Schweizer Qualität und Leistung\, wenn es um Pumpen geht				\n				\n				\n				\n									Die Biral AG ist ein renommiertes Schweizer Unternehmen mit Sitz in Münsingen\, das sich auf die Entwicklung\, Herstellung und den Vertrieb von Pumpensystemen spezialisiert hat. Das 1919 gegründete Unternehmen hat sich im Laufe der Jahre als einer der führenden Anbieter in der Pumpentechnologie etabliert. Biral bietet eine breite Palette an Pumpenlösungen für verschiedene Anwendungen\, darunter Heizungs-\, Klima- und Kälteanlagen\, Wasserversorgung\, Abwasserentsorgung und industrielle Anwendungen. Die Produktpalette umfasst hocheffiziente Umwälzpumpen\, Druckerhöhungsanlagen\, Abwasserpumpen und spezielle Lösungen für individuelle Kundenanforderungen. Das Unternehmen legt grossen Wert auf Innovation\, Qualität und Nachhaltigkeit. Biral investiert kontinuierlich in Forschung und Entwicklung\, um energieeffiziente und umweltfreundliche Produkte zu gewährleisten. Zudem setzt das Unternehmen auf eine kundenorientierte Servicekultur und bietet umfassende Beratungs- und Wartungsdienstleistungen an. Mit einem starken Netzwerk von Vertriebspartnern und Servicestellen ist Biral international tätig und geniesst einen ausgezeichneten Ruf für seine zuverlässigen und leistungsstarken Pumpensysteme. Durch die Kombination von traditionellem Know-how und modernster Technologie hat sich die Biral AG als vertrauenswürdiger Partner in der Pumpenbranche etabliert. Wir freuen uns auf Ihre Teilnahme. 								\n				\n				\n				\n																														\n				\n				\n				\n							\n			\n		\n						\n				\n					\n		\n					\n		\n				\n						\n					\n			\n						\n				\n					Programm				\n				\n				\n				\n							\n			\n				\n			\n\n			\n								\n						\n\n				\n											\n							14:00 Uhr						\n						\n				\n\n				\n									\n					\n																									\n				\n								\n				\n													\n												\n														\n								\n									\n																					\n												14:00 Uhr											\n																				\n									Eintreffen der Besucher								\n							\n													\n										\n\n			\n								\n						\n\n				\n											\n							14:15 Uhr						\n						\n				\n\n				\n									\n					\n																									\n				\n								\n				\n													\n												\n														\n								\n									\n																					\n												14:15 Uhr											\n																				\n									Begrüssung durch den SKDVVorstellung Service Inside und Veranstalter ankündigen 								\n							\n													\n										\n\n			\n								\n						\n\n				\n											\n							14:30 Uhr						\n						\n				\n\n				\n									\n					\n																									\n				\n								\n				\n													\n												\n														\n								\n									\n																					\n												14:30 Uhr											\n																				\n									Präsentation / Fachvortrag: Field Service Disposition the way to ExcellenceSjef de Bruijn\, CEO 								\n							\n													\n										\n\n			\n								\n						\n\n				\n											\n							15:15 Uhr						\n						\n				\n\n				\n									\n					\n																									\n				\n								\n				\n													\n												\n														\n								\n									\n																					\n												15:15 Uhr											\n																				\n									Betriebsbesichtigung / Rundgang								\n							\n													\n										\n\n			\n								\n						\n\n				\n											\n							16:00 Uhr						\n						\n				\n\n				\n									\n					\n																									\n				\n								\n				\n													\n												\n														\n								\n									\n																					\n												16:00 Uhr											\n																				\n									Fragerunde								\n							\n													\n										\n\n			\n								\n						\n\n				\n											\n							16:15 Uhr						\n						\n				\n\n				\n									\n					\n																									\n				\n								\n				\n													\n												\n														\n								\n									\n																					\n												16:15 Uhr											\n																				\n									News aus dem SKDV								\n							\n													\n										\n\n			\n								\n						\n\n				\n											\n							16:30 Uhr						\n						\n				\n\n				\n									\n					\n																									\n				\n								\n				\n													\n												\n														\n								\n									\n																					\n												16:30 Uhr											\n																				\n									Apéro und NetzwerkenDer Apéro wird in den Räumlichkeiten des Veranstalters durchgeführt								\n							\n													\n										\n\n			\n								\n						\n\n				\n											\n							17:30 Uhr						\n						\n				\n\n				\n									\n					\n																									\n				\n								\n				\n													\n												\n														\n								\n									\n																					\n												17:30 Uhr											\n																				\n									Ende der VeranstaltungVerabschiedung der Delegation 								\n							\n													\n										\n\n			\n						\n\n						\n				\n					\n		\n					\n		\n				\n						\n					\n			\n						\n				\n																														\n				\n				\n				\n									Parkmöglichkeiten im Parkhaus der Dipl. Ing. Fust AG 								\n				\n					\n		\n					\n		\n				\n				\n							\n			\n		\n						\n				\n				\n						\n					\n			\n						\n				\n							\n			\n		\n						\n				\n				\n				\n									\n					\n						\n						\n							\n									Event-Übersicht
URL:https://tescht2.skdv.ch/event/service-inside-biral-ag-mit-fachvortrag-und-betriebsbesichtigung/
LOCATION:Biral AG\, Südstrasse 10\, Münsingen\, 3110
CATEGORIES:SKDV Service Inside
ATTACH;FMTTYPE=image/jpeg:https://tescht2.skdv.ch/wp-content/uploads/2024/06/Service-Inside-Biral.jpg
ORGANIZER;CN="SKDV":MAILTO:info@skdv.ch
END:VEVENT
END:VCALENDAR