BEGIN:VCALENDAR
VERSION:2.0
PRODID:-//SKDV - schweizer service verband - ECPv6.15.18//NONSGML v1.0//EN
CALSCALE:GREGORIAN
METHOD:PUBLISH
X-WR-CALNAME:SKDV - schweizer service verband
X-ORIGINAL-URL:https://tescht2.skdv.ch
X-WR-CALDESC:Veranstaltungen für SKDV - schweizer service verband
REFRESH-INTERVAL;VALUE=DURATION:PT1H
X-Robots-Tag:noindex
X-PUBLISHED-TTL:PT1H
BEGIN:VTIMEZONE
TZID:Europe/Zurich
BEGIN:DAYLIGHT
TZOFFSETFROM:+0100
TZOFFSETTO:+0200
TZNAME:CEST
DTSTART:20210328T010000
END:DAYLIGHT
BEGIN:STANDARD
TZOFFSETFROM:+0200
TZOFFSETTO:+0100
TZNAME:CET
DTSTART:20211031T010000
END:STANDARD
BEGIN:DAYLIGHT
TZOFFSETFROM:+0100
TZOFFSETTO:+0200
TZNAME:CEST
DTSTART:20220327T010000
END:DAYLIGHT
BEGIN:STANDARD
TZOFFSETFROM:+0200
TZOFFSETTO:+0100
TZNAME:CET
DTSTART:20221030T010000
END:STANDARD
BEGIN:DAYLIGHT
TZOFFSETFROM:+0100
TZOFFSETTO:+0200
TZNAME:CEST
DTSTART:20230326T010000
END:DAYLIGHT
BEGIN:STANDARD
TZOFFSETFROM:+0200
TZOFFSETTO:+0100
TZNAME:CET
DTSTART:20231029T010000
END:STANDARD
END:VTIMEZONE
BEGIN:VEVENT
DTSTART;TZID=Europe/Zurich:20220901T163000
DTEND;TZID=Europe/Zurich:20220901T180000
DTSTAMP:20260424T074419
CREATED:20220721T124721Z
LAST-MODIFIED:20220818T115840Z
UID:4961-1662049800-1662055200@tescht2.skdv.ch
SUMMARY:SKDV Service Forum - Neue Business-Modelle mit Subscription und Pay-per-use
DESCRIPTION:SKDV Service Forum				\n				\n				\n				\n					Aktiver Austausch unter Mitgliedern				\n				\n					\n		\n					\n		\n				\n						\n					\n			\n						\n				\n									Die Gelegenheit um News\, Updates und Erfahrungen auszutauschen und aktuelle Themen zu diskutieren. 								\n				\n					\n		\n				\n			\n						\n				\n																														\n				\n					\n		\n					\n		\n				\n						\n					\n			\n						\n				\n																														\n				\n					\n		\n				\n			\n						\n				\n					Referat von Markus Dal Pian				\n				\n				\n				\n									Managing Director bei DMG MORI Schweiz AG								\n				\n					\n		\n					\n		\n				\n						\n					\n			\n						\n				\n					Themen				\n				\n				\n				\n									\nNeue Businessmodelle\nOperatives Leasing\nEquipment as a Service\nTreiber der Investitionen\nInvestitionsansätze – wo ist was sinnvoll?\nPAYZR – Detail-Insights\n\nMit PAYZR unterstreicht DMG MORI einmal mehr seinen Status als ganzheitlicher Wegbereiter seiner Kunden. PAYZR steht als Akronym für „PAY with Zero Risk“ und markiert den Einstieg in die Welt der datenbasierten Geschäftsmodelle von Subscription und Pay-per-Use. 								\n				\n					\n		\n				\n			\n						\n				\n																\n															\n															\n				\n				\n				\n																\n															\n															\n				\n				\n				\n									\n					\n						\n						\n							\n									Zur Website\n					\n					\n				\n								\n				\n					\n		\n					\n		\n				\n				\n							\n			\n		\n						\n				\n				\n						\n					\n			\n						\n				\n									\n					\n						\n						\n							\n									Event-Übersicht
URL:https://tescht2.skdv.ch/event/skdv-service-forum-einstieg-in-die-welt-der-datenbasierten-geschaeftsmodelle/
LOCATION:ONLINE (Zoom)
CATEGORIES:SKDV Service Forum
ATTACH;FMTTYPE=image/jpeg:https://tescht2.skdv.ch/wp-content/uploads/2019/05/knowhowmanagement.jpg
ORGANIZER;CN="SKDV":MAILTO:info@skdv.ch
END:VEVENT
END:VCALENDAR