BEGIN:VCALENDAR
VERSION:2.0
PRODID:-//SKDV - schweizer service verband - ECPv6.15.18//NONSGML v1.0//EN
CALSCALE:GREGORIAN
METHOD:PUBLISH
X-WR-CALNAME:SKDV - schweizer service verband
X-ORIGINAL-URL:https://tescht2.skdv.ch
X-WR-CALDESC:Veranstaltungen für SKDV - schweizer service verband
REFRESH-INTERVAL;VALUE=DURATION:PT1H
X-Robots-Tag:noindex
X-PUBLISHED-TTL:PT1H
BEGIN:VTIMEZONE
TZID:Europe/Zurich
BEGIN:DAYLIGHT
TZOFFSETFROM:+0100
TZOFFSETTO:+0200
TZNAME:CEST
DTSTART:20220327T010000
END:DAYLIGHT
BEGIN:STANDARD
TZOFFSETFROM:+0200
TZOFFSETTO:+0100
TZNAME:CET
DTSTART:20221030T010000
END:STANDARD
BEGIN:DAYLIGHT
TZOFFSETFROM:+0100
TZOFFSETTO:+0200
TZNAME:CEST
DTSTART:20230326T010000
END:DAYLIGHT
BEGIN:STANDARD
TZOFFSETFROM:+0200
TZOFFSETTO:+0100
TZNAME:CET
DTSTART:20231029T010000
END:STANDARD
BEGIN:DAYLIGHT
TZOFFSETFROM:+0100
TZOFFSETTO:+0200
TZNAME:CEST
DTSTART:20240331T010000
END:DAYLIGHT
BEGIN:STANDARD
TZOFFSETFROM:+0200
TZOFFSETTO:+0100
TZNAME:CET
DTSTART:20241027T010000
END:STANDARD
END:VTIMEZONE
BEGIN:VEVENT
DTSTART;TZID=Europe/Zurich:20230306T150000
DTEND;TZID=Europe/Zurich:20230306T180000
DTSTAMP:20260423T065050
CREATED:20230103T003300Z
LAST-MODIFIED:20230103T003815Z
UID:5548-1678114800-1678125600@tescht2.skdv.ch
SUMMARY:Service Inside bei Hörmann Schweiz AG mit Fachvortrag und Bertriebsbesichtigung
DESCRIPTION:Service Inside zu Besuch bei Hörmann Schweiz AG				\n				\n				\n				\n									Service-Inside bietet Ihnen einen Einblick in ein interessantes Unternehmen und dessen Service-Strategie. Nebst einem spannenden Fachvortrag und einer Betriebsbesichtigung\, haben Sie beim Apéro Gelegenheit\, Kontakte zu pflegen und Erfahrungen auszutauschen. 								\n				\n					\n		\n				\n			\n						\n				\n																\n															\n															\n				\n					\n		\n					\n		\n				\n						\n					\n			\n						\n				\n									Tagtäglich gehen sie auf und zu / hoch und runter\, wie von Geisterhand geräuschlos\, automatisch und schnell; Tore\, Türen\, Schranken etc. von Hörmann sind Qualitätsprodukte für Industrie\, Architekten und Privatkunden mit grossem Anspruch. Wir schauen hinter die Kulissen des Konzerns und entdecken den frisch eingeweihten Erweiterungsbau in Oensingen\, das eigene Ausbildungszentrum\, die Produktion sowie die Serviceorganisation der Hörmann Schweiz AG. Reservieren Sie sich schon heute den 6. März 2023 und erfahren Sie mehr über das Unternehmen und die speziellen Anforderungen im Kunden-Service.  Wir freuen uns auf Ihre Teilnahme. 								\n				\n				\n				\n					Programm				\n				\n				\n				\n									Zeit Tätigkeit 15:00 Eintreffen der Besucher  15:05 Begrüssung durch den SKDV Thomas Seiler 15:15 Präsentation  CEO Andreas Breschan / Kundendienstleiter Patrick Hostettler 15:45 Betriebsbesichtigung / Rundgang 16:30 Fragerunde 16:45 SKDV Informationen / Abschluss Thomas Seiler 17:00 Apéro und Netzwerken Der Apéro wird in den Räumlichkeiten des Veranstalters durchgeführt 18:30 Ende der Veranstaltung Verabschiedung der Delegation   								\n				\n					\n		\n					\n		\n				\n						\n					\n			\n						\n				\n									\n					\n						\n						\n							\n									Event-Übersicht
URL:https://tescht2.skdv.ch/event/service-inside-bei-hoermann-schweiz-ag-mit-fachvortrag-und-bertriebsbesichtigung/
LOCATION:Hörmann Schweiz AG\, Nordringstrasse 14\, Oensingen\, 4702
CATEGORIES:SKDV Service Inside
ATTACH;FMTTYPE=image/jpeg:https://tescht2.skdv.ch/wp-content/uploads/2023/01/Hoermann_Service-Inside.jpg
ORGANIZER;CN="SKDV":MAILTO:info@skdv.ch
END:VEVENT
END:VCALENDAR