BEGIN:VCALENDAR
VERSION:2.0
PRODID:-//SKDV - schweizer service verband - ECPv6.15.18//NONSGML v1.0//EN
CALSCALE:GREGORIAN
METHOD:PUBLISH
X-WR-CALNAME:SKDV - schweizer service verband
X-ORIGINAL-URL:https://tescht2.skdv.ch
X-WR-CALDESC:Veranstaltungen für SKDV - schweizer service verband
REFRESH-INTERVAL;VALUE=DURATION:PT1H
X-Robots-Tag:noindex
X-PUBLISHED-TTL:PT1H
BEGIN:VTIMEZONE
TZID:Europe/Zurich
BEGIN:DAYLIGHT
TZOFFSETFROM:+0100
TZOFFSETTO:+0200
TZNAME:CEST
DTSTART:20220327T010000
END:DAYLIGHT
BEGIN:STANDARD
TZOFFSETFROM:+0200
TZOFFSETTO:+0100
TZNAME:CET
DTSTART:20221030T010000
END:STANDARD
BEGIN:DAYLIGHT
TZOFFSETFROM:+0100
TZOFFSETTO:+0200
TZNAME:CEST
DTSTART:20230326T010000
END:DAYLIGHT
BEGIN:STANDARD
TZOFFSETFROM:+0200
TZOFFSETTO:+0100
TZNAME:CET
DTSTART:20231029T010000
END:STANDARD
BEGIN:DAYLIGHT
TZOFFSETFROM:+0100
TZOFFSETTO:+0200
TZNAME:CEST
DTSTART:20240331T010000
END:DAYLIGHT
BEGIN:STANDARD
TZOFFSETFROM:+0200
TZOFFSETTO:+0100
TZNAME:CET
DTSTART:20241027T010000
END:STANDARD
END:VTIMEZONE
BEGIN:VEVENT
DTSTART;TZID=Europe/Zurich:20230615T080000
DTEND;TZID=Europe/Zurich:20230615T170000
DTSTAMP:20260423T123757
CREATED:20230320T033534Z
LAST-MODIFIED:20230320T034322Z
UID:5815-1686816000-1686848400@tescht2.skdv.ch
SUMMARY:Service Excellence Day 2023
DESCRIPTION:Die Kunst\, Technologie und Wissen wertvoll zu machen				\n				\n					\n		\n					\n		\n				\n						\n					\n			\n						\n				\n									Die Zukunft wird den Assisted Services gehören! Ähnlich wie bei der Entwicklung zum vollautonomen Fahren\, vollzieht sich die Entwicklung zum Assisted Service Center in machbaren Stufen und benötigt vor allem die korrekten Daten in Echtzeit entlang der gesamten Prozesskette. Daraus ergeben sich einerseits völlig neue Potentiale für die Interaktion zwischen Mensch und Maschine\, andererseits eben auch Chancen und Aufgaben für die Organisation und die Führungsmannschaft. Was bedeutet das nun für Ihr Service Center\, für Ihre Prozesse und Ihre Menschen? Welche Branche profitiert zuerst und welcher Reifegrad muss hergestellt werden? Ergeben sich vielleicht neue Themenstellungen\, beispielsweise mit der Cyber Security? Erleben Sie C-Level Speaker\, die bereits ihren ersten Teil der Reise gegangen sind und erfahren Sie wertvolle Impulse für Ihre digitale und kundenzentrierte Neuausrichtung des Service Centers. Seien Sie wieder live dabei beim Service Excellence Day der Samhammer AG. Hier wird die Zukunft gestaltet! 								\n				\n				\n				\n																														\n				\n					\n		\n					\n		\n				\n				\n							\n			\n		\n						\n				\n				\n						\n					\n			\n						\n				\n					Highlights 2022				\n				\n				\n				\n									Schauen Sie sich das Highlight Video aus dem letzten Jahr an und verschaffen Sie sich einen Eindruck zum Erfolgsformat des Service Excellence Days! 								\n				\n				\n				\n							\n					\n						\n				\n					\n		\n					\n		\n				\n						\n					\n			\n						\n				\n					Übersicht Vorträge				\n				\n					\n		\n					\n		\n				\n						\n					\n			\n						\n				\n																														\n				\n				\n				\n																														\n				\n				\n				\n																														\n				\n				\n				\n																														\n				\n				\n				\n																														\n				\n				\n				\n																														\n				\n					\n		\n					\n		\n				\n				\n							\n			\n		\n						\n				\n				\n						\n					\n			\n						\n				\n					Übersicht Masterclass				\n				\n				\n				\n																														\n				\n				\n				\n																														\n				\n				\n				\n																														\n				\n					\n		\n					\n		\n				\n				\n							\n			\n		\n						\n				\n				\n						\n					\n			\n						\n				\n					Jetzt anmelden:				\n				\n				\n				\n									\n					\n						\n						\n							\n									Infos & Anmeldung\n					\n					\n				\n								\n				\n					\n		\n					\n		\n				\n						\n					\n			\n						\n				\n									\n					\n						\n						\n							\n									Event-Übersicht
URL:https://tescht2.skdv.ch/event/service-excellence-day-2023/
LOCATION:Innovision Center\, Paul-Engel-Straße 1\, Weiherhammer\, 92729\, Deutschland
CATEGORIES:Fachtagung
ATTACH;FMTTYPE=image/png:https://tescht2.skdv.ch/wp-content/uploads/2023/03/Service-Excellence-Day-2023_Titelbild.png
ORGANIZER;CN="Samhammer AG":MAILTO:info@samhammer.de
END:VEVENT
END:VCALENDAR