BEGIN:VCALENDAR
VERSION:2.0
PRODID:-//SKDV - schweizer service verband - ECPv6.15.18//NONSGML v1.0//EN
CALSCALE:GREGORIAN
METHOD:PUBLISH
X-ORIGINAL-URL:https://tescht2.skdv.ch
X-WR-CALDESC:Veranstaltungen für SKDV - schweizer service verband
REFRESH-INTERVAL;VALUE=DURATION:PT1H
X-Robots-Tag:noindex
X-PUBLISHED-TTL:PT1H
BEGIN:VTIMEZONE
TZID:Europe/Zurich
BEGIN:DAYLIGHT
TZOFFSETFROM:+0100
TZOFFSETTO:+0200
TZNAME:CEST
DTSTART:20250330T010000
END:DAYLIGHT
BEGIN:STANDARD
TZOFFSETFROM:+0200
TZOFFSETTO:+0100
TZNAME:CET
DTSTART:20251026T010000
END:STANDARD
BEGIN:DAYLIGHT
TZOFFSETFROM:+0100
TZOFFSETTO:+0200
TZNAME:CEST
DTSTART:20260329T010000
END:DAYLIGHT
BEGIN:STANDARD
TZOFFSETFROM:+0200
TZOFFSETTO:+0100
TZNAME:CET
DTSTART:20261025T010000
END:STANDARD
BEGIN:DAYLIGHT
TZOFFSETFROM:+0100
TZOFFSETTO:+0200
TZNAME:CEST
DTSTART:20270328T010000
END:DAYLIGHT
BEGIN:STANDARD
TZOFFSETFROM:+0200
TZOFFSETTO:+0100
TZNAME:CET
DTSTART:20271031T010000
END:STANDARD
END:VTIMEZONE
BEGIN:VEVENT
DTSTART;TZID=Europe/Zurich:20260311T130000
DTEND;TZID=Europe/Zurich:20260311T180000
DTSTAMP:20260419T163332
CREATED:20251117T173258Z
LAST-MODIFIED:20260304T122013Z
UID:7708-1773234000-1773252000@tescht2.skdv.ch
SUMMARY:Service Inside @ Endress+Hauser
DESCRIPTION:360° Serviceorientierung - Im Wandel der Anforderungen				\n				\n				\n				\n									Unter dem Motto „360° Serviceorientierung – im Wandel der Anforderungen“ lädt der KVA die Service-Community nach Altlengbach bei Wien ein. Freuen Sie sich auf zwei inspirierende Kongresstage mit topaktuellen Vorträgen\, praxisnahen Best Practices und viel Raum für den Austausch mit Expertinnen und Experten aus der gesamten DACH-Region. Einige Highlights des Programms: KI im Service – praxiserprobte Use Cases & ErfolgsgeschichtenResilienter Service – der Schlüssel zu nachhaltiger KundenzufriedenheitFührung in der Transformation – Stabilität geben\, Veränderung gestaltenVoice of Customer – Kundenstimmen nutzen\, Umsatz steigern								\n				\n					\n		\n					\n		\n				\n						\n					\n			\n						\n				\n					Weitere Informationen & Anmeldung				\n				\n				\n				\n									\n					\n						\n									Event Webseite\n					\n					\n				\n								\n				\n				\n				\n							\n			\n		\n						\n				\n					\n		\n					\n		\n				\n				\n							\n			\n		\n						\n				\n				\n						\n					\n			\n						\n				\n							\n			\n		\n						\n				\n				\n				\n									\n					\n						\n						\n							\n									Event-Übersicht
URL:https://tescht2.skdv.ch/event/service-inside-endresshauser/
LOCATION:Endress+Hauser\, Kägenstrasse 2\, Reinach\, 4153
CATEGORIES:SKDV Service Inside
ATTACH;FMTTYPE=image/jpeg:https://tescht2.skdv.ch/wp-content/uploads/2025/11/EndressHauser.jpg
ORGANIZER;CN="SKDV":MAILTO:info@skdv.ch
END:VEVENT
BEGIN:VEVENT
DTSTART;TZID=Europe/Zurich:20260318T093000
DTEND;TZID=Europe/Zurich:20260318T165000
DTSTAMP:20260419T163332
CREATED:20260112T100138Z
LAST-MODIFIED:20260216T212750Z
UID:7869-1773826200-1773852600@tescht2.skdv.ch
SUMMARY:29. Aachener Dienstleistungsforum
DESCRIPTION:360° Serviceorientierung - Im Wandel der Anforderungen				\n				\n				\n				\n									Unter dem Motto „360° Serviceorientierung – im Wandel der Anforderungen“ lädt der KVA die Service-Community nach Altlengbach bei Wien ein. Freuen Sie sich auf zwei inspirierende Kongresstage mit topaktuellen Vorträgen\, praxisnahen Best Practices und viel Raum für den Austausch mit Expertinnen und Experten aus der gesamten DACH-Region. Einige Highlights des Programms: KI im Service – praxiserprobte Use Cases & ErfolgsgeschichtenResilienter Service – der Schlüssel zu nachhaltiger KundenzufriedenheitFührung in der Transformation – Stabilität geben\, Veränderung gestaltenVoice of Customer – Kundenstimmen nutzen\, Umsatz steigern								\n				\n					\n		\n					\n		\n				\n						\n					\n			\n						\n				\n					Weitere Informationen & Anmeldung				\n				\n				\n				\n									\n					\n						\n									Event Webseite\n					\n					\n				\n								\n				\n				\n				\n							\n			\n		\n						\n				\n					\n		\n					\n		\n				\n				\n							\n			\n		\n						\n				\n				\n						\n					\n			\n						\n				\n							\n			\n		\n						\n				\n				\n				\n									\n					\n						\n						\n							\n									Event-Übersicht
URL:https://tescht2.skdv.ch/event/29-aachener-dienstleistungsforum/
LOCATION:ONLINE
CATEGORIES:Fachtagung,Online-Event,Partner
ATTACH;FMTTYPE=image/png:https://tescht2.skdv.ch/wp-content/uploads/2026/01/dienstleistungsforum_2026-1.png
END:VEVENT
BEGIN:VEVENT
DTSTART;TZID=Europe/Zurich:20260324T150000
DTEND;TZID=Europe/Zurich:20260324T160000
DTSTAMP:20260419T163332
CREATED:20260213T170123Z
LAST-MODIFIED:20260218T140822Z
UID:7970-1774364400-1774368000@tescht2.skdv.ch
SUMMARY:SKDV Generalversammlung 2026
DESCRIPTION:360° Serviceorientierung - Im Wandel der Anforderungen				\n				\n				\n				\n									Unter dem Motto „360° Serviceorientierung – im Wandel der Anforderungen“ lädt der KVA die Service-Community nach Altlengbach bei Wien ein. Freuen Sie sich auf zwei inspirierende Kongresstage mit topaktuellen Vorträgen\, praxisnahen Best Practices und viel Raum für den Austausch mit Expertinnen und Experten aus der gesamten DACH-Region. Einige Highlights des Programms: KI im Service – praxiserprobte Use Cases & ErfolgsgeschichtenResilienter Service – der Schlüssel zu nachhaltiger KundenzufriedenheitFührung in der Transformation – Stabilität geben\, Veränderung gestaltenVoice of Customer – Kundenstimmen nutzen\, Umsatz steigern								\n				\n					\n		\n					\n		\n				\n						\n					\n			\n						\n				\n					Weitere Informationen & Anmeldung				\n				\n				\n				\n									\n					\n						\n									Event Webseite\n					\n					\n				\n								\n				\n				\n				\n							\n			\n		\n						\n				\n					\n		\n					\n		\n				\n				\n							\n			\n		\n						\n				\n				\n						\n					\n			\n						\n				\n							\n			\n		\n						\n				\n				\n				\n									\n					\n						\n						\n							\n									Event-Übersicht
URL:https://tescht2.skdv.ch/event/skdv-gv-2026/
LOCATION:Schloss Rued\, Schlossrued\, 5044\, Switzerland
CATEGORIES:Fachtagung,SKDV Generalversammlung
ATTACH;FMTTYPE=image/jpeg:https://tescht2.skdv.ch/wp-content/uploads/2026/02/skdv_gv_2026.jpg
ORGANIZER;CN="SKDV":MAILTO:info@skdv.ch
END:VEVENT
BEGIN:VEVENT
DTSTART;TZID=Europe/Zurich:20260324T163000
DTEND;TZID=Europe/Zurich:20260324T200000
DTSTAMP:20260419T163332
CREATED:20260213T161604Z
LAST-MODIFIED:20260226T212647Z
UID:7954-1774369800-1774382400@tescht2.skdv.ch
SUMMARY:TKK Workshop: Digitale Kompetenzen
DESCRIPTION:360° Serviceorientierung - Im Wandel der Anforderungen				\n				\n				\n				\n									Unter dem Motto „360° Serviceorientierung – im Wandel der Anforderungen“ lädt der KVA die Service-Community nach Altlengbach bei Wien ein. Freuen Sie sich auf zwei inspirierende Kongresstage mit topaktuellen Vorträgen\, praxisnahen Best Practices und viel Raum für den Austausch mit Expertinnen und Experten aus der gesamten DACH-Region. Einige Highlights des Programms: KI im Service – praxiserprobte Use Cases & ErfolgsgeschichtenResilienter Service – der Schlüssel zu nachhaltiger KundenzufriedenheitFührung in der Transformation – Stabilität geben\, Veränderung gestaltenVoice of Customer – Kundenstimmen nutzen\, Umsatz steigern								\n				\n					\n		\n					\n		\n				\n						\n					\n			\n						\n				\n					Weitere Informationen & Anmeldung				\n				\n				\n				\n									\n					\n						\n									Event Webseite\n					\n					\n				\n								\n				\n				\n				\n							\n			\n		\n						\n				\n					\n		\n					\n		\n				\n				\n							\n			\n		\n						\n				\n				\n						\n					\n			\n						\n				\n							\n			\n		\n						\n				\n				\n				\n									\n					\n						\n						\n							\n									Event-Übersicht
URL:https://tescht2.skdv.ch/event/tkk-workshop-digitale-kompetenzen/
LOCATION:Schloss Rued\, Schlossrued\, 5044\, Switzerland
CATEGORIES:Fachtagung,SKDV Generalversammlung,TKK Workshop
ATTACH;FMTTYPE=image/jpeg:https://tescht2.skdv.ch/wp-content/uploads/2026/02/tkk_workshop2026.jpg
END:VEVENT
BEGIN:VEVENT
DTSTART;TZID=Europe/Zurich:20260325T130000
DTEND;TZID=Europe/Zurich:20260325T180000
DTSTAMP:20260419T163332
CREATED:20260112T225256Z
LAST-MODIFIED:20260216T212624Z
UID:7893-1774443600-1774461600@tescht2.skdv.ch
SUMMARY:1. Insight Talks
DESCRIPTION:360° Serviceorientierung - Im Wandel der Anforderungen				\n				\n				\n				\n									Unter dem Motto „360° Serviceorientierung – im Wandel der Anforderungen“ lädt der KVA die Service-Community nach Altlengbach bei Wien ein. Freuen Sie sich auf zwei inspirierende Kongresstage mit topaktuellen Vorträgen\, praxisnahen Best Practices und viel Raum für den Austausch mit Expertinnen und Experten aus der gesamten DACH-Region. Einige Highlights des Programms: KI im Service – praxiserprobte Use Cases & ErfolgsgeschichtenResilienter Service – der Schlüssel zu nachhaltiger KundenzufriedenheitFührung in der Transformation – Stabilität geben\, Veränderung gestaltenVoice of Customer – Kundenstimmen nutzen\, Umsatz steigern								\n				\n					\n		\n					\n		\n				\n						\n					\n			\n						\n				\n					Weitere Informationen & Anmeldung				\n				\n				\n				\n									\n					\n						\n									Event Webseite\n					\n					\n				\n								\n				\n				\n				\n							\n			\n		\n						\n				\n					\n		\n					\n		\n				\n				\n							\n			\n		\n						\n				\n				\n						\n					\n			\n						\n				\n							\n			\n		\n						\n				\n				\n				\n									\n					\n						\n						\n							\n									Event-Übersicht
URL:https://tescht2.skdv.ch/event/1-insight-talks/
LOCATION:TECHNOPARK\, Technoparkstrasse 1\, Zürich\, 8005\, Switzerland
CATEGORIES:Fachtagung,Partner
ATTACH;FMTTYPE=image/png:https://tescht2.skdv.ch/wp-content/uploads/2026/01/nextind_insighttalk.png
END:VEVENT
BEGIN:VEVENT
DTSTART;TZID=Europe/Zurich:20260330T170000
DTEND;TZID=Europe/Zurich:20260330T183000
DTSTAMP:20260419T163332
CREATED:20260323T150401Z
LAST-MODIFIED:20260323T150702Z
UID:8293-1774890000-1774895400@tescht2.skdv.ch
SUMMARY:Antrittsvorlesung: Vom Hunter zum Customer Success
DESCRIPTION:360° Serviceorientierung - Im Wandel der Anforderungen				\n				\n				\n				\n									Unter dem Motto „360° Serviceorientierung – im Wandel der Anforderungen“ lädt der KVA die Service-Community nach Altlengbach bei Wien ein. Freuen Sie sich auf zwei inspirierende Kongresstage mit topaktuellen Vorträgen\, praxisnahen Best Practices und viel Raum für den Austausch mit Expertinnen und Experten aus der gesamten DACH-Region. Einige Highlights des Programms: KI im Service – praxiserprobte Use Cases & ErfolgsgeschichtenResilienter Service – der Schlüssel zu nachhaltiger KundenzufriedenheitFührung in der Transformation – Stabilität geben\, Veränderung gestaltenVoice of Customer – Kundenstimmen nutzen\, Umsatz steigern								\n				\n					\n		\n					\n		\n				\n						\n					\n			\n						\n				\n					Weitere Informationen & Anmeldung				\n				\n				\n				\n									\n					\n						\n									Event Webseite\n					\n					\n				\n								\n				\n				\n				\n							\n			\n		\n						\n				\n					\n		\n					\n		\n				\n				\n							\n			\n		\n						\n				\n				\n						\n					\n			\n						\n				\n							\n			\n		\n						\n				\n				\n				\n									\n					\n						\n						\n							\n									Event-Übersicht
URL:https://tescht2.skdv.ch/event/antrittsvorlesung-vom-hunter-zum-customer-success/
LOCATION:ZHAW School of Engineering\, Gebäude TN\, Technikumstrasse 71\, Winterthur
CATEGORIES:Fachtagung,Partner
ATTACH;FMTTYPE=image/jpeg:https://tescht2.skdv.ch/wp-content/uploads/2026/03/zhaw_custsucc.jpg
END:VEVENT
BEGIN:VEVENT
DTSTART;TZID=Europe/Zurich:20260331T114500
DTEND;TZID=Europe/Zurich:20260331T121500
DTSTAMP:20260419T163332
CREATED:20260219T191044Z
LAST-MODIFIED:20260219T191547Z
UID:8078-1774957500-1774959300@tescht2.skdv.ch
SUMMARY:Service Lunch: “Eating\, Learning\, Netzworking” – Digital Plan Revision Service at Siresca
DESCRIPTION:360° Serviceorientierung - Im Wandel der Anforderungen				\n				\n				\n				\n									Unter dem Motto „360° Serviceorientierung – im Wandel der Anforderungen“ lädt der KVA die Service-Community nach Altlengbach bei Wien ein. Freuen Sie sich auf zwei inspirierende Kongresstage mit topaktuellen Vorträgen\, praxisnahen Best Practices und viel Raum für den Austausch mit Expertinnen und Experten aus der gesamten DACH-Region. Einige Highlights des Programms: KI im Service – praxiserprobte Use Cases & ErfolgsgeschichtenResilienter Service – der Schlüssel zu nachhaltiger KundenzufriedenheitFührung in der Transformation – Stabilität geben\, Veränderung gestaltenVoice of Customer – Kundenstimmen nutzen\, Umsatz steigern								\n				\n					\n		\n					\n		\n				\n						\n					\n			\n						\n				\n					Weitere Informationen & Anmeldung				\n				\n				\n				\n									\n					\n						\n									Event Webseite\n					\n					\n				\n								\n				\n				\n				\n							\n			\n		\n						\n				\n					\n		\n					\n		\n				\n				\n							\n			\n		\n						\n				\n				\n						\n					\n			\n						\n				\n							\n			\n		\n						\n				\n				\n				\n									\n					\n						\n						\n							\n									Event-Übersicht
URL:https://tescht2.skdv.ch/event/service-lunch-eating-learning-netzworking-digital-plan-revision-service-at-siresca/
LOCATION:ONLINE
CATEGORIES:Fachtagung,Online-Event,Partner
ATTACH;FMTTYPE=image/jpeg:https://tescht2.skdv.ch/wp-content/uploads/2026/02/doi_servicelunch_20261.jpg
ORGANIZER;CN="data innovation alliance":MAILTO:info.office@data-innovation.org
END:VEVENT
END:VCALENDAR