BEGIN:VCALENDAR
VERSION:2.0
PRODID:-//SKDV - schweizer service verband - ECPv6.15.18//NONSGML v1.0//EN
CALSCALE:GREGORIAN
METHOD:PUBLISH
X-WR-CALNAME:SKDV - schweizer service verband
X-ORIGINAL-URL:https://tescht2.skdv.ch
X-WR-CALDESC:Veranstaltungen für SKDV - schweizer service verband
REFRESH-INTERVAL;VALUE=DURATION:PT1H
X-Robots-Tag:noindex
X-PUBLISHED-TTL:PT1H
BEGIN:VTIMEZONE
TZID:Europe/Zurich
BEGIN:DAYLIGHT
TZOFFSETFROM:+0100
TZOFFSETTO:+0200
TZNAME:CEST
DTSTART:20240331T010000
END:DAYLIGHT
BEGIN:STANDARD
TZOFFSETFROM:+0200
TZOFFSETTO:+0100
TZNAME:CET
DTSTART:20241027T010000
END:STANDARD
BEGIN:DAYLIGHT
TZOFFSETFROM:+0100
TZOFFSETTO:+0200
TZNAME:CEST
DTSTART:20250330T010000
END:DAYLIGHT
BEGIN:STANDARD
TZOFFSETFROM:+0200
TZOFFSETTO:+0100
TZNAME:CET
DTSTART:20251026T010000
END:STANDARD
BEGIN:DAYLIGHT
TZOFFSETFROM:+0100
TZOFFSETTO:+0200
TZNAME:CEST
DTSTART:20260329T010000
END:DAYLIGHT
BEGIN:STANDARD
TZOFFSETFROM:+0200
TZOFFSETTO:+0100
TZNAME:CET
DTSTART:20261025T010000
END:STANDARD
END:VTIMEZONE
BEGIN:VEVENT
DTSTART;VALUE=DATE:20251105
DTEND;VALUE=DATE:20251107
DTSTAMP:20260419T231003
CREATED:20250714T211733Z
LAST-MODIFIED:20250714T211950Z
UID:7477-1762300800-1762473599@tescht2.skdv.ch
SUMMARY:KVD Service Congress 2025
DESCRIPTION:360° Serviceorientierung - Im Wandel der Anforderungen				\n				\n				\n				\n									Unter dem Motto „360° Serviceorientierung – im Wandel der Anforderungen“ lädt der KVA die Service-Community nach Altlengbach bei Wien ein. Freuen Sie sich auf zwei inspirierende Kongresstage mit topaktuellen Vorträgen\, praxisnahen Best Practices und viel Raum für den Austausch mit Expertinnen und Experten aus der gesamten DACH-Region. Einige Highlights des Programms: KI im Service – praxiserprobte Use Cases & ErfolgsgeschichtenResilienter Service – der Schlüssel zu nachhaltiger KundenzufriedenheitFührung in der Transformation – Stabilität geben\, Veränderung gestaltenVoice of Customer – Kundenstimmen nutzen\, Umsatz steigern								\n				\n					\n		\n					\n		\n				\n						\n					\n			\n						\n				\n					Weitere Informationen & Anmeldung				\n				\n				\n				\n									\n					\n						\n									Event Webseite\n					\n					\n				\n								\n				\n				\n				\n							\n			\n		\n						\n				\n					\n		\n					\n		\n				\n				\n							\n			\n		\n						\n				\n				\n						\n					\n			\n						\n				\n							\n			\n		\n						\n				\n				\n				\n									\n					\n						\n						\n							\n									Event-Übersicht
URL:https://tescht2.skdv.ch/event/kvd-service-congress-2025/
LOCATION:Grand Hall ZOLLVEREIN®\, Kokereiallee 9\, Essen\, 45141\, Deutschland
CATEGORIES:Fachtagung
ATTACH;FMTTYPE=image/jpeg:https://tescht2.skdv.ch/wp-content/uploads/2025/06/KVD_Service_Congress_2025.jpg
END:VEVENT
BEGIN:VEVENT
DTSTART;TZID=Europe/Zurich:20251118T160000
DTEND;TZID=Europe/Zurich:20251118T235900
DTSTAMP:20260419T231003
CREATED:20250622T181242Z
LAST-MODIFIED:20250622T181732Z
UID:7479-1763481600-1763510340@tescht2.skdv.ch
SUMMARY:Customer Relations Awards Night 2025
DESCRIPTION:360° Serviceorientierung - Im Wandel der Anforderungen				\n				\n				\n				\n									Unter dem Motto „360° Serviceorientierung – im Wandel der Anforderungen“ lädt der KVA die Service-Community nach Altlengbach bei Wien ein. Freuen Sie sich auf zwei inspirierende Kongresstage mit topaktuellen Vorträgen\, praxisnahen Best Practices und viel Raum für den Austausch mit Expertinnen und Experten aus der gesamten DACH-Region. Einige Highlights des Programms: KI im Service – praxiserprobte Use Cases & ErfolgsgeschichtenResilienter Service – der Schlüssel zu nachhaltiger KundenzufriedenheitFührung in der Transformation – Stabilität geben\, Veränderung gestaltenVoice of Customer – Kundenstimmen nutzen\, Umsatz steigern								\n				\n					\n		\n					\n		\n				\n						\n					\n			\n						\n				\n					Weitere Informationen & Anmeldung				\n				\n				\n				\n									\n					\n						\n									Event Webseite\n					\n					\n				\n								\n				\n				\n				\n							\n			\n		\n						\n				\n					\n		\n					\n		\n				\n				\n							\n			\n		\n						\n				\n				\n						\n					\n			\n						\n				\n							\n			\n		\n						\n				\n				\n				\n									\n					\n						\n						\n							\n									Event-Übersicht
URL:https://tescht2.skdv.ch/event/customer-relations-awards-night-2025/
LOCATION:Park Hyatt Hotel\, Beethovenstrasse 21\, Zürich\, 8002
CATEGORIES:Award
ATTACH;FMTTYPE=image/jpeg:https://tescht2.skdv.ch/wp-content/uploads/2025/03/CustomerRelationsAward2025.jpg
END:VEVENT
BEGIN:VEVENT
DTSTART;TZID=Europe/Zurich:20251121T114500
DTEND;TZID=Europe/Zurich:20251121T121500
DTSTAMP:20260419T231003
CREATED:20251117T174352Z
LAST-MODIFIED:20251117T174728Z
UID:7728-1763725500-1763727300@tescht2.skdv.ch
SUMMARY:Service Lunch: “Eating\, Learning\, Networking” – Data Spaces in Manufacturing
DESCRIPTION:360° Serviceorientierung - Im Wandel der Anforderungen				\n				\n				\n				\n									Unter dem Motto „360° Serviceorientierung – im Wandel der Anforderungen“ lädt der KVA die Service-Community nach Altlengbach bei Wien ein. Freuen Sie sich auf zwei inspirierende Kongresstage mit topaktuellen Vorträgen\, praxisnahen Best Practices und viel Raum für den Austausch mit Expertinnen und Experten aus der gesamten DACH-Region. Einige Highlights des Programms: KI im Service – praxiserprobte Use Cases & ErfolgsgeschichtenResilienter Service – der Schlüssel zu nachhaltiger KundenzufriedenheitFührung in der Transformation – Stabilität geben\, Veränderung gestaltenVoice of Customer – Kundenstimmen nutzen\, Umsatz steigern								\n				\n					\n		\n					\n		\n				\n						\n					\n			\n						\n				\n					Weitere Informationen & Anmeldung				\n				\n				\n				\n									\n					\n						\n									Event Webseite\n					\n					\n				\n								\n				\n				\n				\n							\n			\n		\n						\n				\n					\n		\n					\n		\n				\n				\n							\n			\n		\n						\n				\n				\n						\n					\n			\n						\n				\n							\n			\n		\n						\n				\n				\n				\n									\n					\n						\n						\n							\n									Event-Übersicht
URL:https://tescht2.skdv.ch/event/service-lunch-eating-learning-networking-data-spaces-in-manufacturing/
LOCATION:ONLINE (Microsoft Teams)
CATEGORIES:Service Lunch
ATTACH;FMTTYPE=image/png:https://tescht2.skdv.ch/wp-content/uploads/2021/03/EG-Smart-Services-Logo-Alle.png
ORGANIZER;CN="data innovation alliance":MAILTO:info.office@data-innovation.org
END:VEVENT
BEGIN:VEVENT
DTSTART;VALUE=DATE:20251126
DTEND;VALUE=DATE:20251128
DTSTAMP:20260419T231003
CREATED:20250822T104252Z
LAST-MODIFIED:20250916T153327Z
UID:7610-1764115200-1764287999@tescht2.skdv.ch
SUMMARY:Maintenance Schweiz
DESCRIPTION:360° Serviceorientierung - Im Wandel der Anforderungen				\n				\n				\n				\n									Unter dem Motto „360° Serviceorientierung – im Wandel der Anforderungen“ lädt der KVA die Service-Community nach Altlengbach bei Wien ein. Freuen Sie sich auf zwei inspirierende Kongresstage mit topaktuellen Vorträgen\, praxisnahen Best Practices und viel Raum für den Austausch mit Expertinnen und Experten aus der gesamten DACH-Region. Einige Highlights des Programms: KI im Service – praxiserprobte Use Cases & ErfolgsgeschichtenResilienter Service – der Schlüssel zu nachhaltiger KundenzufriedenheitFührung in der Transformation – Stabilität geben\, Veränderung gestaltenVoice of Customer – Kundenstimmen nutzen\, Umsatz steigern								\n				\n					\n		\n					\n		\n				\n						\n					\n			\n						\n				\n					Weitere Informationen & Anmeldung				\n				\n				\n				\n									\n					\n						\n									Event Webseite\n					\n					\n				\n								\n				\n				\n				\n							\n			\n		\n						\n				\n					\n		\n					\n		\n				\n				\n							\n			\n		\n						\n				\n				\n						\n					\n			\n						\n				\n							\n			\n		\n						\n				\n				\n				\n									\n					\n						\n						\n							\n									Event-Übersicht
URL:https://tescht2.skdv.ch/event/maintenance-schweiz-2025/
LOCATION:Messe Zürich\, Wallisellenstrasse 49\, Zürich\, 8050\, Schweiz
CATEGORIES:Fachmesse
ATTACH;FMTTYPE=image/jpeg:https://tescht2.skdv.ch/wp-content/uploads/2025/08/MAINTENANCE-SCHWEIZ-2024-PHOTO-SARA-BARTH-011.jpg
END:VEVENT
BEGIN:VEVENT
DTSTART;TZID=Europe/Zurich:20251127T130000
DTEND;TZID=Europe/Zurich:20251127T150000
DTSTAMP:20260419T231003
CREATED:20251117T193754Z
LAST-MODIFIED:20251117T195004Z
UID:7746-1764248400-1764255600@tescht2.skdv.ch
SUMMARY:SKDV Vorträge bei den Maintenance Talks 2025
DESCRIPTION:360° Serviceorientierung - Im Wandel der Anforderungen				\n				\n				\n				\n									Unter dem Motto „360° Serviceorientierung – im Wandel der Anforderungen“ lädt der KVA die Service-Community nach Altlengbach bei Wien ein. Freuen Sie sich auf zwei inspirierende Kongresstage mit topaktuellen Vorträgen\, praxisnahen Best Practices und viel Raum für den Austausch mit Expertinnen und Experten aus der gesamten DACH-Region. Einige Highlights des Programms: KI im Service – praxiserprobte Use Cases & ErfolgsgeschichtenResilienter Service – der Schlüssel zu nachhaltiger KundenzufriedenheitFührung in der Transformation – Stabilität geben\, Veränderung gestaltenVoice of Customer – Kundenstimmen nutzen\, Umsatz steigern								\n				\n					\n		\n					\n		\n				\n						\n					\n			\n						\n				\n					Weitere Informationen & Anmeldung				\n				\n				\n				\n									\n					\n						\n									Event Webseite\n					\n					\n				\n								\n				\n				\n				\n							\n			\n		\n						\n				\n					\n		\n					\n		\n				\n				\n							\n			\n		\n						\n				\n				\n						\n					\n			\n						\n				\n							\n			\n		\n						\n				\n				\n				\n									\n					\n						\n						\n							\n									Event-Übersicht
URL:https://tescht2.skdv.ch/event/skdv-vortraege-bei-maintenance-talks-2025/
LOCATION:Messe Zürich\, Wallisellenstrasse 49\, Zürich\, 8050\, Schweiz
CATEGORIES:Fachmesse
ATTACH;FMTTYPE=image/jpeg:https://tescht2.skdv.ch/wp-content/uploads/2025/11/Maintenance-Talks.jpg
ORGANIZER;CN="SKDV":MAILTO:info@skdv.ch
END:VEVENT
BEGIN:VEVENT
DTSTART;TZID=Europe/Zurich:20251127T143000
DTEND;TZID=Europe/Zurich:20251127T153000
DTSTAMP:20260419T231003
CREATED:20251117T180107Z
LAST-MODIFIED:20251117T193736Z
UID:7737-1764253800-1764257400@tescht2.skdv.ch
SUMMARY:Digitaler Produktpass: Wegbereiter für die Zirkuläre Maschinenindustrie 
DESCRIPTION:360° Serviceorientierung - Im Wandel der Anforderungen				\n				\n				\n				\n									Unter dem Motto „360° Serviceorientierung – im Wandel der Anforderungen“ lädt der KVA die Service-Community nach Altlengbach bei Wien ein. Freuen Sie sich auf zwei inspirierende Kongresstage mit topaktuellen Vorträgen\, praxisnahen Best Practices und viel Raum für den Austausch mit Expertinnen und Experten aus der gesamten DACH-Region. Einige Highlights des Programms: KI im Service – praxiserprobte Use Cases & ErfolgsgeschichtenResilienter Service – der Schlüssel zu nachhaltiger KundenzufriedenheitFührung in der Transformation – Stabilität geben\, Veränderung gestaltenVoice of Customer – Kundenstimmen nutzen\, Umsatz steigern								\n				\n					\n		\n					\n		\n				\n						\n					\n			\n						\n				\n					Weitere Informationen & Anmeldung				\n				\n				\n				\n									\n					\n						\n									Event Webseite\n					\n					\n				\n								\n				\n				\n				\n							\n			\n		\n						\n				\n					\n		\n					\n		\n				\n				\n							\n			\n		\n						\n				\n				\n						\n					\n			\n						\n				\n							\n			\n		\n						\n				\n				\n				\n									\n					\n						\n						\n							\n									Event-Übersicht
URL:https://tescht2.skdv.ch/event/digitaler-produktpass-wegbereiter-fuer-die-zirkulaere-maschinenindustrie/
LOCATION:Messe Zürich\, Wallisellenstrasse 49\, Zürich\, 8050\, Schweiz
CATEGORIES:Fachmesse
ATTACH;FMTTYPE=image/jpeg:https://tescht2.skdv.ch/wp-content/uploads/2025/11/PumpsValves-Talks.jpg
ORGANIZER;CN="data innovation alliance":MAILTO:info.office@data-innovation.org
END:VEVENT
END:VCALENDAR