BEGIN:VCALENDAR
VERSION:2.0
PRODID:-//SKDV - schweizer service verband - ECPv6.15.18//NONSGML v1.0//EN
CALSCALE:GREGORIAN
METHOD:PUBLISH
X-ORIGINAL-URL:https://tescht2.skdv.ch
X-WR-CALDESC:Veranstaltungen für SKDV - schweizer service verband
REFRESH-INTERVAL;VALUE=DURATION:PT1H
X-Robots-Tag:noindex
X-PUBLISHED-TTL:PT1H
BEGIN:VTIMEZONE
TZID:Europe/Zurich
BEGIN:DAYLIGHT
TZOFFSETFROM:+0100
TZOFFSETTO:+0200
TZNAME:CEST
DTSTART:20240331T010000
END:DAYLIGHT
BEGIN:STANDARD
TZOFFSETFROM:+0200
TZOFFSETTO:+0100
TZNAME:CET
DTSTART:20241027T010000
END:STANDARD
BEGIN:DAYLIGHT
TZOFFSETFROM:+0100
TZOFFSETTO:+0200
TZNAME:CEST
DTSTART:20250330T010000
END:DAYLIGHT
BEGIN:STANDARD
TZOFFSETFROM:+0200
TZOFFSETTO:+0100
TZNAME:CET
DTSTART:20251026T010000
END:STANDARD
BEGIN:DAYLIGHT
TZOFFSETFROM:+0100
TZOFFSETTO:+0200
TZNAME:CEST
DTSTART:20260329T010000
END:DAYLIGHT
BEGIN:STANDARD
TZOFFSETFROM:+0200
TZOFFSETTO:+0100
TZNAME:CET
DTSTART:20261025T010000
END:STANDARD
END:VTIMEZONE
BEGIN:VEVENT
DTSTART;TZID=Europe/Zurich:20251021T180000
DTEND;TZID=Europe/Zurich:20251021T210000
DTSTAMP:20260420T004732
CREATED:20250715T204012Z
LAST-MODIFIED:20250810T165233Z
UID:7492-1761069600-1761080400@tescht2.skdv.ch
SUMMARY:TKK-Podiums-Gespräch "Generation Z in der Arbeitswelt & Kundendienst"
DESCRIPTION:360° Serviceorientierung - Im Wandel der Anforderungen				\n				\n				\n				\n									Unter dem Motto „360° Serviceorientierung – im Wandel der Anforderungen“ lädt der KVA die Service-Community nach Altlengbach bei Wien ein. Freuen Sie sich auf zwei inspirierende Kongresstage mit topaktuellen Vorträgen\, praxisnahen Best Practices und viel Raum für den Austausch mit Expertinnen und Experten aus der gesamten DACH-Region. Einige Highlights des Programms: KI im Service – praxiserprobte Use Cases & ErfolgsgeschichtenResilienter Service – der Schlüssel zu nachhaltiger KundenzufriedenheitFührung in der Transformation – Stabilität geben\, Veränderung gestaltenVoice of Customer – Kundenstimmen nutzen\, Umsatz steigern								\n				\n					\n		\n					\n		\n				\n						\n					\n			\n						\n				\n					Weitere Informationen & Anmeldung				\n				\n				\n				\n									\n					\n						\n									Event Webseite\n					\n					\n				\n								\n				\n				\n				\n							\n			\n		\n						\n				\n					\n		\n					\n		\n				\n				\n							\n			\n		\n						\n				\n				\n						\n					\n			\n						\n				\n							\n			\n		\n						\n				\n				\n				\n									\n					\n						\n						\n							\n									Event-Übersicht
URL:https://tescht2.skdv.ch/event/tkk-podiums-gespraech-generation-z-in-der-arbeitswelt-kundendienst/
LOCATION:Schloss Greifensee\, Im Städtli 24\, Greifensee\, 8606
CATEGORIES:Fachtagung
ATTACH;FMTTYPE=image/jpeg:https://tescht2.skdv.ch/wp-content/uploads/2025/06/TKK_Podiumsgespraech_GenZ.jpg
END:VEVENT
BEGIN:VEVENT
DTSTART;VALUE=DATE:20251024
DTEND;VALUE=DATE:20251025
DTSTAMP:20260420T004732
CREATED:20250916T154739Z
LAST-MODIFIED:20251008T141905Z
UID:7642-1761264000-1761350399@tescht2.skdv.ch
SUMMARY:Smart Services Summit 2025
DESCRIPTION:360° Serviceorientierung - Im Wandel der Anforderungen				\n				\n				\n				\n									Unter dem Motto „360° Serviceorientierung – im Wandel der Anforderungen“ lädt der KVA die Service-Community nach Altlengbach bei Wien ein. Freuen Sie sich auf zwei inspirierende Kongresstage mit topaktuellen Vorträgen\, praxisnahen Best Practices und viel Raum für den Austausch mit Expertinnen und Experten aus der gesamten DACH-Region. Einige Highlights des Programms: KI im Service – praxiserprobte Use Cases & ErfolgsgeschichtenResilienter Service – der Schlüssel zu nachhaltiger KundenzufriedenheitFührung in der Transformation – Stabilität geben\, Veränderung gestaltenVoice of Customer – Kundenstimmen nutzen\, Umsatz steigern								\n				\n					\n		\n					\n		\n				\n						\n					\n			\n						\n				\n					Weitere Informationen & Anmeldung				\n				\n				\n				\n									\n					\n						\n									Event Webseite\n					\n					\n				\n								\n				\n				\n				\n							\n			\n		\n						\n				\n					\n		\n					\n		\n				\n				\n							\n			\n		\n						\n				\n				\n						\n					\n			\n						\n				\n							\n			\n		\n						\n				\n				\n				\n									\n					\n						\n						\n							\n									Event-Übersicht
URL:https://tescht2.skdv.ch/event/smart-services-summit-2025/
LOCATION:Oracle\, The Circle\, The Circle 32\, Zürich Airport\, 8058
CATEGORIES:Summit
ATTACH;FMTTYPE=image/png:https://tescht2.skdv.ch/wp-content/uploads/2025/09/SmartServiceSummit2025.png
ORGANIZER;CN="data innovation alliance":MAILTO:conference@data-innovation.org
END:VEVENT
BEGIN:VEVENT
DTSTART;VALUE=DATE:20251030
DTEND;VALUE=DATE:20251031
DTSTAMP:20260420T004732
CREATED:20251009T094541Z
LAST-MODIFIED:20251009T094627Z
UID:7676-1761782400-1761868799@tescht2.skdv.ch
SUMMARY:Xperience Day 2025
DESCRIPTION:360° Serviceorientierung - Im Wandel der Anforderungen				\n				\n				\n				\n									Unter dem Motto „360° Serviceorientierung – im Wandel der Anforderungen“ lädt der KVA die Service-Community nach Altlengbach bei Wien ein. Freuen Sie sich auf zwei inspirierende Kongresstage mit topaktuellen Vorträgen\, praxisnahen Best Practices und viel Raum für den Austausch mit Expertinnen und Experten aus der gesamten DACH-Region. Einige Highlights des Programms: KI im Service – praxiserprobte Use Cases & ErfolgsgeschichtenResilienter Service – der Schlüssel zu nachhaltiger KundenzufriedenheitFührung in der Transformation – Stabilität geben\, Veränderung gestaltenVoice of Customer – Kundenstimmen nutzen\, Umsatz steigern								\n				\n					\n		\n					\n		\n				\n						\n					\n			\n						\n				\n					Weitere Informationen & Anmeldung				\n				\n				\n				\n									\n					\n						\n									Event Webseite\n					\n					\n				\n								\n				\n				\n				\n							\n			\n		\n						\n				\n					\n		\n					\n		\n				\n				\n							\n			\n		\n						\n				\n				\n						\n					\n			\n						\n				\n							\n			\n		\n						\n				\n				\n				\n									\n					\n						\n						\n							\n									Event-Übersicht
URL:https://tescht2.skdv.ch/event/xperience-day-2025/
LOCATION:Microsoft Headquarters München\, Walter-Gropius-Strasse 5\, München\, 80807\, Germany
CATEGORIES:Fachtagung
ATTACH;FMTTYPE=image/png:https://tescht2.skdv.ch/wp-content/uploads/2025/10/Xday2025.png
ORGANIZER;CN="elunic AG":MAILTO:info@elunic.com
END:VEVENT
END:VCALENDAR