BEGIN:VCALENDAR
VERSION:2.0
PRODID:-//SKDV - schweizer service verband - ECPv6.15.18//NONSGML v1.0//EN
CALSCALE:GREGORIAN
METHOD:PUBLISH
X-WR-CALNAME:SKDV - schweizer service verband
X-ORIGINAL-URL:https://tescht2.skdv.ch
X-WR-CALDESC:Veranstaltungen für SKDV - schweizer service verband
REFRESH-INTERVAL;VALUE=DURATION:PT1H
X-Robots-Tag:noindex
X-PUBLISHED-TTL:PT1H
BEGIN:VTIMEZONE
TZID:Europe/Zurich
BEGIN:DAYLIGHT
TZOFFSETFROM:+0100
TZOFFSETTO:+0200
TZNAME:CEST
DTSTART:20240331T010000
END:DAYLIGHT
BEGIN:STANDARD
TZOFFSETFROM:+0200
TZOFFSETTO:+0100
TZNAME:CET
DTSTART:20241027T010000
END:STANDARD
BEGIN:DAYLIGHT
TZOFFSETFROM:+0100
TZOFFSETTO:+0200
TZNAME:CEST
DTSTART:20250330T010000
END:DAYLIGHT
BEGIN:STANDARD
TZOFFSETFROM:+0200
TZOFFSETTO:+0100
TZNAME:CET
DTSTART:20251026T010000
END:STANDARD
BEGIN:DAYLIGHT
TZOFFSETFROM:+0100
TZOFFSETTO:+0200
TZNAME:CEST
DTSTART:20260329T010000
END:DAYLIGHT
BEGIN:STANDARD
TZOFFSETFROM:+0200
TZOFFSETTO:+0100
TZNAME:CET
DTSTART:20261025T010000
END:STANDARD
END:VTIMEZONE
BEGIN:VEVENT
DTSTART;TZID=Europe/Zurich:20250311T090000
DTEND;TZID=Europe/Zurich:20250311T161500
DTSTAMP:20260420T115148
CREATED:20250223T212512Z
LAST-MODIFIED:20250301T121747Z
UID:7181-1741683600-1741709700@tescht2.skdv.ch
SUMMARY:IoT-Konferenz 2025
DESCRIPTION:360° Serviceorientierung - Im Wandel der Anforderungen				\n				\n				\n				\n									Unter dem Motto „360° Serviceorientierung – im Wandel der Anforderungen“ lädt der KVA die Service-Community nach Altlengbach bei Wien ein. Freuen Sie sich auf zwei inspirierende Kongresstage mit topaktuellen Vorträgen\, praxisnahen Best Practices und viel Raum für den Austausch mit Expertinnen und Experten aus der gesamten DACH-Region. Einige Highlights des Programms: KI im Service – praxiserprobte Use Cases & ErfolgsgeschichtenResilienter Service – der Schlüssel zu nachhaltiger KundenzufriedenheitFührung in der Transformation – Stabilität geben\, Veränderung gestaltenVoice of Customer – Kundenstimmen nutzen\, Umsatz steigern								\n				\n					\n		\n					\n		\n				\n						\n					\n			\n						\n				\n					Weitere Informationen & Anmeldung				\n				\n				\n				\n									\n					\n						\n									Event Webseite\n					\n					\n				\n								\n				\n				\n				\n							\n			\n		\n						\n				\n					\n		\n					\n		\n				\n				\n							\n			\n		\n						\n				\n				\n						\n					\n			\n						\n				\n							\n			\n		\n						\n				\n				\n				\n									\n					\n						\n						\n							\n									Event-Übersicht
URL:https://tescht2.skdv.ch/event/iot-konferenz-2025/
LOCATION:TRAFO Baden\, Brown Boveri Platz 1\, Baden\, 5400\, Schweiz
CATEGORIES:Fachtagung
ATTACH;FMTTYPE=image/jpeg:https://tescht2.skdv.ch/wp-content/uploads/2025/02/Asut_IOT_2025.jpg
ORGANIZER;CN="asut - Schweizerischer Verband der Telekommunikation":MAILTO:info@asut.ch
END:VEVENT
BEGIN:VEVENT
DTSTART;VALUE=DATE:20250319
DTEND;VALUE=DATE:20250320
DTSTAMP:20260420T115149
CREATED:20250130T103138Z
LAST-MODIFIED:20250301T121704Z
UID:7115-1742342400-1742428799@tescht2.skdv.ch
SUMMARY:28. Aachener Dienstleistungsforum
DESCRIPTION:360° Serviceorientierung - Im Wandel der Anforderungen				\n				\n				\n				\n									Unter dem Motto „360° Serviceorientierung – im Wandel der Anforderungen“ lädt der KVA die Service-Community nach Altlengbach bei Wien ein. Freuen Sie sich auf zwei inspirierende Kongresstage mit topaktuellen Vorträgen\, praxisnahen Best Practices und viel Raum für den Austausch mit Expertinnen und Experten aus der gesamten DACH-Region. Einige Highlights des Programms: KI im Service – praxiserprobte Use Cases & ErfolgsgeschichtenResilienter Service – der Schlüssel zu nachhaltiger KundenzufriedenheitFührung in der Transformation – Stabilität geben\, Veränderung gestaltenVoice of Customer – Kundenstimmen nutzen\, Umsatz steigern								\n				\n					\n		\n					\n		\n				\n						\n					\n			\n						\n				\n					Weitere Informationen & Anmeldung				\n				\n				\n				\n									\n					\n						\n									Event Webseite\n					\n					\n				\n								\n				\n				\n				\n							\n			\n		\n						\n				\n					\n		\n					\n		\n				\n				\n							\n			\n		\n						\n				\n				\n						\n					\n			\n						\n				\n							\n			\n		\n						\n				\n				\n				\n									\n					\n						\n						\n							\n									Event-Übersicht
URL:https://tescht2.skdv.ch/event/28-aachener-dienstleistungsforum/
LOCATION:ONLINE
CATEGORIES:Fachtagung,Online-Event
ATTACH;FMTTYPE=image/jpeg:https://tescht2.skdv.ch/wp-content/uploads/2025/01/aachener-dienstleistungsforum-2025-header.jpg
END:VEVENT
BEGIN:VEVENT
DTSTART;TZID=Europe/Zurich:20250326T083000
DTEND;TZID=Europe/Zurich:20250326T120000
DTSTAMP:20260420T115149
CREATED:20250301T121025Z
LAST-MODIFIED:20250301T121441Z
UID:7241-1742977800-1742990400@tescht2.skdv.ch
SUMMARY:Kundenservice: (R-)evolution mit Turbo-Boost
DESCRIPTION:360° Serviceorientierung - Im Wandel der Anforderungen				\n				\n				\n				\n									Unter dem Motto „360° Serviceorientierung – im Wandel der Anforderungen“ lädt der KVA die Service-Community nach Altlengbach bei Wien ein. Freuen Sie sich auf zwei inspirierende Kongresstage mit topaktuellen Vorträgen\, praxisnahen Best Practices und viel Raum für den Austausch mit Expertinnen und Experten aus der gesamten DACH-Region. Einige Highlights des Programms: KI im Service – praxiserprobte Use Cases & ErfolgsgeschichtenResilienter Service – der Schlüssel zu nachhaltiger KundenzufriedenheitFührung in der Transformation – Stabilität geben\, Veränderung gestaltenVoice of Customer – Kundenstimmen nutzen\, Umsatz steigern								\n				\n					\n		\n					\n		\n				\n						\n					\n			\n						\n				\n					Weitere Informationen & Anmeldung				\n				\n				\n				\n									\n					\n						\n									Event Webseite\n					\n					\n				\n								\n				\n				\n				\n							\n			\n		\n						\n				\n					\n		\n					\n		\n				\n				\n							\n			\n		\n						\n				\n				\n						\n					\n			\n						\n				\n							\n			\n		\n						\n				\n				\n				\n									\n					\n						\n						\n							\n									Event-Übersicht
URL:https://tescht2.skdv.ch/event/kundenservice-revolution-mit-turbo-boost/
LOCATION:Bildungszentrum Sihlpost\, Sihlpostgasse 2\, Zürich\, 8004
CATEGORIES:Fachtagung
ATTACH;FMTTYPE=image/jpeg:https://tescht2.skdv.ch/wp-content/uploads/2025/03/TN_CX-Fachanlass_Turbo-Boost.jpg
ORGANIZER;CN="T&N":MAILTO:info@tn-ict.com
END:VEVENT
END:VCALENDAR